BEGIN:VCALENDAR
VERSION:2.0
PRODID:-//ChamberMaster//Event Calendar 2.0//EN
METHOD:PUBLISH
X-PUBLISHED-TTL:P3D
REFRESH-INTERVAL:P3D
CALSCALE:GREGORIAN
BEGIN:VEVENT
DTSTART;VALUE=DATE:20140815
DTEND;VALUE=DATE:20140816
TRANSP:TRANSPARENT
X-MICROSOFT-CDO-ALLDAYEVENT:TRUE
SUMMARY:* Iphie Burg & Jen Hemenway ? Closing Party (at Sikta Creations)
DESCRIPTION:Friday\, August 15at 5:00pm - 8:00pm\n\nSitka Creations\n\n2 Shaker Rd\, Suite D101\, Shirley\, Massachusetts 01464\n\n\n\nClosing Show! We have decided to do a closing show for Iphie Burg and Jen Hemenway. We hope you can come party with us before we take down the show. We will have nibbles & snacks for you and some tunes. We look forward to seeing you! PLEASE RSVP so we know how much food to obtain. Thanks!
X-ALT-DESC;FMTTYPE=text/html:<br />\nFriday\, August 15at 5:00pm - 8:00pm<br />\nSitka Creations<br />\n2 Shaker Rd\, Suite D101\, Shirley\, Massachusetts 01464<br />\n<br />\n<span style="color: rgb(20\, 24\, 35)\; font-family: Helvetica\, Arial\, 'lucida grande'\, tahoma\, verdana\, arial\, sans-serif\; font-size: 13.63636302947998px\; line-height: 16.290908813476563px\;">Closing Show! We have decided to do a closing show for Iphie Burg and Jen Hemenway. We hope you can come party with us before we take down the show. We will have nibbles &amp\; snacks for you and some tunes. We look forward to seeing you! PLEASE RSVP so we know how much food to obtain. Thanks!</span>
LOCATION:
UID:e.518.17563
SEQUENCE:3
DTSTAMP:20260425T024708Z
URL:http://nashoba.preview.gochambermaster.com/events/details/iphie-burg-jen-hemenway-closing-party-at-sikta-creations-08-15-2014-17563
END:VEVENT

END:VCALENDAR
