BEGIN:VCALENDAR
VERSION:2.0
PRODID:-//ChamberMaster//Event Calendar 2.0//EN
METHOD:PUBLISH
X-PUBLISHED-TTL:P3D
REFRESH-INTERVAL:P3D
CALSCALE:GREGORIAN
BEGIN:VEVENT
DTSTART;VALUE=DATE:20141028
DTEND;VALUE=DATE:20141029
TRANSP:TRANSPARENT
X-MICROSOFT-CDO-ALLDAYEVENT:TRUE
SUMMARY:* INTRODUCTION TO FINAL CUT X PRO (Westford Community Access Television)
DESCRIPTION:Tuesday\, October 28\, 2014 from 6:30pm to 8:00pm\n\n \n\nINTRODUCTION TO FINAL CUT X PRO\n\nSign up for this class to learn the basics of video editing on a Mac. In this class you will learn how to upload and edit your footage\, add titles\, adjust audio and add background music to complete your program.\n\nInstructor: George Cox\n\n \n\nTo sign up for classes please send an email to Anya Zulawnik at azulawnik@westfordcat.org
X-ALT-DESC;FMTTYPE=text/html:<br />\n<strong><span style="color:blue\;"><span style="font-family:helvetica\,sans-serif\;"><span style="font-size:10.5pt\;">Tuesday\, October 28\, 2014 from 6:30pm to 8:00pm</span></span></span></strong><br />\n<strong><span style="color:#505050\;"><span style="font-family:helvetica\,sans-serif\;"><span style="font-size:10.5pt\;">&nbsp\;<br />\nINTRODUCTION TO FINAL CUT X PRO<br />\nSign up for this class to learn the basics of video editing on a Mac. In this class you will learn how to upload and edit your footage\, add titles\, adjust audio and add background music to complete your program.<br />\nInstructor: George Cox<br />\n&nbsp\;<br />\nTo sign up for classes please send an email to Anya Zulawnik at <a href="mailto:azulawnik@westfordcat.org"><span style="color:#505050\;">azulawnik@westfordcat.org</span></a></span></span></span></strong><br />\n<br />\n&nbsp\;
LOCATION:
UID:e.518.18059
SEQUENCE:3
DTSTAMP:20260425T012249Z
URL:http://nashoba.preview.gochambermaster.com/events/details/introduction-to-final-cut-x-pro-westford-community-access-television-10-28-2014-18059
END:VEVENT

END:VCALENDAR
