BEGIN:VCALENDAR
VERSION:2.0
PRODID:-//ChamberMaster//Event Calendar 2.0//EN
METHOD:PUBLISH
X-PUBLISHED-TTL:P3D
REFRESH-INTERVAL:P3D
CALSCALE:GREGORIAN
BEGIN:VEVENT
DTSTART:20140208T150000Z
DTEND:20140208T180000Z
X-MICROSOFT-CDO-ALLDAYEVENT:FALSE
SUMMARY:* Indian Hill Music Open House
DESCRIPTION:OPEN HOUSE: Saturday\, February 8\, 10 am ? 1 pm\, Indian Hill Music School\, 36 King Street (Rte. 495/Exit 30)\, Littleton\, MA. FREE activities for all ages: hands-on instrument demonstrations\, concert of ?Music from Around the World? at 10:30am\, and more. Ask questions\, meet faculty\, and register for classes. Learn more at (978) 486-9524 or www.indianhillmusic.org.
X-ALT-DESC;FMTTYPE=text/html:OPEN HOUSE: Saturday\, February 8\, 10 am ? 1 pm\, Indian Hill Music School\, 36 King Street (Rte. 495/Exit 30)\, Littleton\, MA. FREE activities for all ages: hands-on instrument demonstrations\, concert of ?Music from Around the World? at 10:30am\, and more. Ask questions\, meet faculty\, and register for classes. Learn more at (978) 486-9524 or www.indianhillmusic.org.
LOCATION:36 King Street\, Littleton MA
UID:e.518.16173
SEQUENCE:3
DTSTAMP:20260425T155309Z
URL:http://nashoba.preview.gochambermaster.com/events/details/indian-hill-music-open-house-02-08-2014-16173
END:VEVENT

END:VCALENDAR
