BEGIN:VCALENDAR
VERSION:2.0
PRODID:-//ChamberMaster//Event Calendar 2.0//EN
METHOD:PUBLISH
X-PUBLISHED-TTL:P3D
REFRESH-INTERVAL:P3D
CALSCALE:GREGORIAN
BEGIN:VEVENT
DTSTART;VALUE=DATE:20140927
DTEND;VALUE=DATE:20140928
TRANSP:TRANSPARENT
X-MICROSOFT-CDO-ALLDAYEVENT:TRUE
SUMMARY:* Hollis Open Barns: Lecture & Tour
DESCRIPTION:Hollis Open Barns: Lecture & Tour  \n\n \n\n \n\nSeptember 27th\, 2014 \n\n 10:00 am - 4:00 pm  \n\nThe Lawrence Barn | 28 Depot Road | Hollis NH\n\nJoin the New Hampshire Preservation Alliance and co-hosts\, Freedom's Way and Hollis Historical Society\, for a spectacular day of barn exploration in Hollis!  \n\n \n\nEnjoy the fall beauty of this thriving farming community as you drive past apple orchards\, farm stands and hay fields in search of the seven historic barns on our tour. Whether you are a barn enthusiast or just appreciate the beauty of a rural community\, this is a day not to be missed! The morning will kick off at the town owned Lawrence Barn with the inaugural presentation of "Interesting Features of NH Barns" by John Porter\, co-author of Preserving Old Barns. Following John's talk\, attendees can grab their pre-ordered lunches and tour booklets (with barn descriptions and map) and head out to explore the wonderful barns of Hollis. Barn experts will be present at each barn to answer questions and guide visitors. Proceeds of the tour will benefit barn preservation throughout New Hampshire.\n\nRegistration required.\n\n \n\nTo learn more and to register...
X-ALT-DESC;FMTTYPE=text/html:<br />\n<br />\n<strong><span style="color:#003366\;"><span style="font-family:arial\,sans-serif\;"><span style="font-size:14.0pt\;">&nbsp\;<em>Hollis Open Barns: Lecture &amp\; Tour &nbsp\;</em></span></span></span></strong><br />\n&nbsp\;<br />\n&nbsp\;<br />\n<strong><span style="color:#003366\;"><span style="font-family:arial\,sans-serif\;">September 27th\, 2014 </span></span></strong><br />\n<strong><span style="color:#003366\;"><span style="font-family:arial\,sans-serif\;">&nbsp\;10:00 am - 4:00 pm&nbsp\; </span></span></strong><br />\n<strong><span style="color:#003366\;"><span style="font-family:arial\,sans-serif\;">The Lawrence Barn | 28 Depot Road | Hollis NH</span></span></strong><br />\n<span style="color:#003366\;"><span style="font-family:arial\,sans-serif\;"><span style="font-size:11.0pt\;">Join the New Hampshire Preservation Alliance and co-hosts\, Freedom&#39\;s Way and Hollis Historical Society\, for a spectacular day of barn exploration in Hollis!</span></span></span><span style="color:#003366\;"><span style="font-family:arial\,sans-serif\;">&nbsp\;&nbsp\;<br />\n&nbsp\;</span></span><br />\n<span style="color:#003366\;"><span style="font-family:arial\,sans-serif\;"><span style="font-size:11.0pt\;">Enjoy the fall beauty of this thriving farming community as you drive past apple orchards\, farm stands and hay fields in search of the seven historic barns on our tour. Whether you are a barn enthusiast or just appreciate the beauty of a rural community\, this is a day not to be missed! The morning will kick off at the town owned Lawrence Barn with the inaugural presentation of &quot\;Interesting Features of NH Barns&quot\; by <strong>John Porter</strong>\, co-author of Preserving Old Barns. Following John&#39\;s talk\, attendees can grab their pre-ordered lunches and tour booklets (with barn descriptions and map) and head out to explore the wonderful barns of Hollis. Barn experts will be present at each barn to answer questions and guide visitors. Proceeds of the tour will benefit barn preservation throughout New Hampshire.<br />\n<em>Registration required.</em></span></span></span><br />\n&nbsp\;<br />\n<strong><span style="color:#003366\;"><span style="font-family:arial\,sans-serif\;"><span style="font-size:11.0pt\;"><a href="http://r20.rs6.net/tn.jsp?f=001YHbfSvNMiDcZEk3cXy3AJIZH57Lv0MAN5g-S8Y_Aq3mVv7BtVAn_Hrll8kzXS8sXSsKQ4_hH0ar2ShU9oNwCmSSXLP5QKF3psiOkvFhvdtu5xM71z74vCzBl4HJJyDqn7wMdPNCdJAETBPOcy8j0Jm5XFsjRt9sxqfGzbOtLSNXMLKwrZ7HUN2ZW-QrCPstLEQUHd4R3MtSfkrgNQ6WbYYnjBkVScZ4kF0Jv1oSOheyK5oPmZTQdSoop1NmUFYRU6Lku3SL_K2xRP_tfpjlZ1DYyHqLN_1gAw2yk6lfnzH2trtbEaWpFACvkKTrrpXpqM6eT_uRzCEtvMHEIiot43RW_jovqHavfz12XoEIQ-vYP1tX-mWMj9P0VpBUC0sch038QWmK2biAxrDbqg1oSBltqsDEldx2iXYc7XUUIh7o=&amp\;c=KxLPLwRNuIwXVqRhXVV05raU2wR2lptnEfh7DRbiZFb6u5TajaJKeA==&amp\;ch=IJKbuEL-3r5h61Mh3Q29KE1ccp5frpPgfaAMaUozz_7AK9nkRWTtag==" linktype="1" shape="rect" target="_blank" track="on"><span style="text-decoration:none\;text-underline:none\;"><span style="color:#003366\;">To learn more and to register...</span></span></a></span></span></span></strong><br />\n&nbsp\;
LOCATION:
UID:e.518.17921
SEQUENCE:3
DTSTAMP:20260425T011344Z
URL:http://nashoba.preview.gochambermaster.com/events/details/hollis-open-barns-lecture-tour-09-27-2014-17921
END:VEVENT

END:VCALENDAR
