BEGIN:VCALENDAR
VERSION:2.0
PRODID:-//ChamberMaster//Event Calendar 2.0//EN
METHOD:PUBLISH
X-PUBLISHED-TTL:P3D
REFRESH-INTERVAL:P3D
CALSCALE:GREGORIAN
BEGIN:VEVENT
DTSTART;VALUE=DATE:20140928
DTEND;VALUE=DATE:20140929
TRANSP:TRANSPARENT
X-MICROSOFT-CDO-ALLDAYEVENT:TRUE
SUMMARY:* Holdenwood Trail Run for Education
DESCRIPTION:Sunday September 28\, 2014\n			 \n		\n		\n			 \n			9:00 AM  -  1:00 PM\n			Holdenwood Trail Run for Education\n			 \n		\n		\n			 \n			 \n			Join us for the 8th annual Holdenwood Trail Run 2K/5K/10K trail run/walk on the scenic trails of Holdenwood in Shirley\, Massachusetts. Wind your way through stone rock walls on pine needle covered trails as you enjoy the fall foilage.  This trail run/walk is truly unique for its beautiful setting and sense of community.  The idyllic Holdenwood trails  offer a mix of stone lined meadows\, wooded trails\, and several interesting features along the way including the Stone Crossing that make this event unique.\n\n			Holdenwood Trail Run    \n		\n		\n			 \n			 \n			Location: Shirley Center Town Common
X-ALT-DESC;FMTTYPE=text/html:<br />\n<table align="center" border="0" cellpadding="0" cellspacing="0" style="width:100%\;background-image:initial\;background-attachment:initial\;background-size:initial\;background-origin:initial\;background-clip:initial\;background-position:initial\;background-repeat:initial\;" width="100%">\n	<tbody>\n		<tr>\n			<td colspan="3" style="background:#FF9933\;padding:2.25pt 2.25pt 2.25pt 2.25pt\;"><strong><span style="color:white\;"><span style="font-family:verdana\,sans-serif\;"><span style="font-size:9.0pt\;">Sunday September 28\, 2014</span></span></span></strong></td>\n			<td style="background:#FF9933\;padding:2.25pt 2.25pt 2.25pt 2.25pt\;"><a name="3599458"></a>&nbsp\;</td>\n		</tr>\n		<tr>\n			<td style="padding:2.25pt 2.25pt 2.25pt 2.25pt\;">&nbsp\;</td>\n			<td style="width:200px\;padding:2.25pt 2.25pt 2.25pt 2.25pt\;"><strong><span style="color:#660066\;"><span style="font-family:arial\,sans-serif\;"><span style="font-size:9.0pt\;">9:00 AM &nbsp\;-&nbsp\; 1:00 PM</span></span></span></strong></td>\n			<td style="width:100.0%\;padding:2.25pt 2.25pt 2.25pt 2.25pt\;"><strong><span style="color:black\;"><span style="font-family:arial\,sans-serif\;"><span style="font-size:10.5pt\;">Holdenwood Trail Run for Education</span></span></span></strong></td>\n			<td style="width:100.0%\;padding:2.25pt 2.25pt 2.25pt 2.25pt\;vertical-align:top\;">&nbsp\;</td>\n		</tr>\n		<tr>\n			<td style="padding:2.25pt 2.25pt 2.25pt 2.25pt\;">&nbsp\;</td>\n			<td style="padding:2.25pt 2.25pt 2.25pt 2.25pt\;">&nbsp\;</td>\n			<td colspan="2" style="padding:2.25pt 2.25pt 2.25pt 2.25pt\;"><span style="background-image:initial\;background-attachment:initial\;background-size:initial\;background-origin:initial\;background-clip:initial\;background-position:initial\;background-repeat:initial\;"><span style="font-family:arial\,sans-serif\;"><span style="font-size:10.5pt\;">Join us for the 8th annual&nbsp\;</span></span></span><em><span style="font-family:arial\,sans-serif\;"><span style="font-size:10.5pt\;">Holdenwood Trail Run</span></span></em><span style="background-image:initial\;background-attachment:initial\;background-size:initial\;background-origin:initial\;background-clip:initial\;background-position:initial\;background-repeat:initial\;"><span style="font-family:arial\,sans-serif\;"><span style="font-size:10.5pt\;">&nbsp\;2K/5K/10K trail run/walk&nbsp\;on the scenic trails&nbsp\;of Holdenwood in Shirley\, Massachusetts.&nbsp\;Wind your way through stone rock walls on pine needle covered trails as you enjoy the fall foilage.&nbsp\; This trail run/walk is truly unique for its beautiful setting and sense of community. &nbsp\;The idyllic Holdenwood&nbsp\;trails&nbsp\; offer a&nbsp\;mix of stone lined meadows\, wooded trails\, and several interesting features along the way including the Stone Crossing that make this event unique.</span></span></span><br />\n			<span style="font-family:arial\,sans-serif\;"><span style="font-size:9.0pt\;"><a href="http://www.holdenwoodtrailrun.org/" target="_blank"><span style="color:blue\;">Holdenwood Trail Run</span></a>&nbsp\;&nbsp\;&nbsp\;&nbsp\;</span></span></td>\n		</tr>\n		<tr>\n			<td style="padding:2.25pt 2.25pt 2.25pt 2.25pt\;">&nbsp\;</td>\n			<td style="padding:2.25pt 2.25pt 2.25pt 2.25pt\;">&nbsp\;</td>\n			<td colspan="2" style="padding:2.25pt 2.25pt 2.25pt 2.25pt\;"><span style="font-family:arial\,sans-serif\;"><span style="font-size:9.0pt\;">Location: Shirley Center Town Common</span></span></td>\n		</tr>\n	</tbody>\n</table>\n\n<div style="clear:both\;">&nbsp\;</div>\n
LOCATION:
UID:e.518.17507
SEQUENCE:3
DTSTAMP:20260425T040942Z
URL:http://nashoba.preview.gochambermaster.com/events/details/holdenwood-trail-run-for-education-09-28-2014-17507
END:VEVENT

END:VCALENDAR
