BEGIN:VCALENDAR
VERSION:2.0
PRODID:-//ChamberMaster//Event Calendar 2.0//EN
METHOD:PUBLISH
X-PUBLISHED-TTL:P3D
REFRESH-INTERVAL:P3D
CALSCALE:GREGORIAN
BEGIN:VEVENT
DTSTART:20150409T113000Z
DTEND:20150409T123000Z
X-MICROSOFT-CDO-ALLDAYEVENT:FALSE
SUMMARY:* Habitat for Humanity Spring Breakfast
DESCRIPTION:Habitat for Humanity NCM spring breakfast event with Hank Phillippi Ryan. Register at http://events.r20.constantcontact.com/register/event?oeidk=a07eajex4lm53a6ecb5&llr=fdlro4bab
X-ALT-DESC;FMTTYPE=text/html:Habitat for Humanity NCM spring breakfast event with Hank Phillippi Ryan. Register at http://events.r20.constantcontact.com/register/event?oeidk=a07eajex4lm53a6ecb5&amp\;llr=fdlro4bab
LOCATION:Chocksett Inn Sterling\, MA
UID:e.518.20374
SEQUENCE:3
DTSTAMP:20260424T035828Z
URL:http://nashoba.preview.gochambermaster.com/events/details/habitat-for-humanity-spring-breakfast-04-09-2015-20374
END:VEVENT

END:VCALENDAR
