BEGIN:VCALENDAR
VERSION:2.0
PRODID:-//ChamberMaster//Event Calendar 2.0//EN
METHOD:PUBLISH
X-PUBLISHED-TTL:P3D
REFRESH-INTERVAL:P3D
CALSCALE:GREGORIAN
BEGIN:VEVENT
DTSTART;VALUE=DATE:20150416
DTEND;VALUE=DATE:20150417
TRANSP:TRANSPARENT
X-MICROSOFT-CDO-ALLDAYEVENT:TRUE
SUMMARY:* Growing Up In Harvard\, The Diary of Ellery Eaton Royal\, 1906-1912 (at The Harvard Historical Society)
DESCRIPTION:Growing Up In Harvard\, The Diary of Ellery Eaton Royal\, 1906-1912\n\nThursday\, April 16th @ 7 PM\n\n\n\nEllery was born in Harvard on July 14\,1894 and graduated from Bromfield in 1912. His diary is captivating and will remind you of a Huckleberry Finn adventure (Harvard style\, of course)\,at the start of the 20th century\, spanning his life from age twelve to eighteen.\n\n\n\nhttp://www.harvardhistory.org
X-ALT-DESC;FMTTYPE=text/html:<br />\n<strong><span style="color:red\;"><span style="font-family:arial\,sans-serif\;"><span style="font-size:10.5pt\;">Growing Up In Harvard\, The Diary of Ellery Eaton Royal\, 1906-1912</span></span></span></strong>\n\n<div><span style="font-size:14px\;"><span style="font-family:arial\,sans-serif\;"><span style="color:#505050\;">Thursday\, April 16</span></span></span><sup style="color:rgb(80\, 80\, 80)\;font-family:Arial\, sans-serif\;">th</sup><span style="font-size:14px\;"><span style="font-family:arial\,sans-serif\;"><span style="color:#505050\;">&nbsp\;@ 7 PM</span></span></span></div>\n\n<div><br />\n<span style="font-size:10.5pt\;"><span style="color:#505050\;"><span style="font-family:arial\,sans-serif\;"><span style="font-family:arial\,sans-serif\;">Ellery was born in Harvard on July 14\,1894 and graduated from Bromfield in 1912. His diary is captivating and will remind you of a Huckleberry Finn adventure (Harvard style\, of course)\,at the start of the 20</span></span></span><sup style="font-family:Arial\, sans-serif\;color:rgb(80\, 80\, 80)\;">th</sup><span style="color:#505050\;"><span style="font-family:arial\,sans-serif\;"><span style="font-family:arial\,sans-serif\;"> century\, spanning his life from age twelve to eighteen.</span></span></span></span><br />\n<br />\n<a href="http://www.harvardhistory.org/">http://www.harvardhistory.org</a><br />\n&nbsp\;</div>\n
LOCATION:
UID:e.518.20072
SEQUENCE:3
DTSTAMP:20260424T040159Z
URL:http://nashoba.preview.gochambermaster.com/events/details/growing-up-in-harvard-the-diary-of-ellery-eaton-royal-1906-1912-at-the-harvard-historical-society-04-16-2015-20072
END:VEVENT

END:VCALENDAR
