BEGIN:VCALENDAR
VERSION:2.0
PRODID:-//ChamberMaster//Event Calendar 2.0//EN
METHOD:PUBLISH
X-PUBLISHED-TTL:P3D
REFRESH-INTERVAL:P3D
CALSCALE:GREGORIAN
BEGIN:VEVENT
DTSTART:20141006T150000Z
DTEND:20141006T160000Z
X-MICROSOFT-CDO-ALLDAYEVENT:FALSE
SUMMARY:Groundbreaking Ceremony Habitat for Humanity NCM?s Ayer Build
DESCRIPTION:Please join us for a\n\nGroundbreaking Ceremony\n\nHabitat for Humanity NCM's Ayer Build\n\non\n\nWorld Habitat Day\n\nOctober 6\, 2014\n\n \n\nCeremony to be held at 11 a.m. at the future build site \n\n 76 Central Avenue\, Ayer\n\n \nFor more information on the build or the Local Project Committee go to www.ncmhabitat.org
X-ALT-DESC;FMTTYPE=text/html:<br />\n<span style="font-family:times new roman\,serif\;"><span style="font-size:24.0pt\;">Please join us for a<br />\n<strong>Groundbreaking Ceremony</strong></span></span><br />\n<strong><span style="color:windowtext\;"><span style="font-family:times new roman\,serif\;"><span style="font-size:24.0pt\;">Habitat for Humanity NCM&rsquo\;s Ayer Build</span></span></span></strong><br />\n<span style="font-family:times new roman\,serif\;"><span style="font-size:24.0pt\;">on</span></span><br />\n<strong><span style="color:#5B9BD5\;"><span style="font-family:times new roman\,serif\;"><span style="font-size:28.0pt\;">World Habitat Day</span></span></span></strong><br />\n<strong><span style="color:#5B9BD5\;"><span style="font-family:times new roman\,serif\;"><span style="font-size:28.0pt\;">October 6\, 2014</span></span></span></strong><br />\n&nbsp\;<br />\n<strong><span style="font-family:times new roman\,serif\;"><span style="font-size:24.0pt\;">Ceremony to be held at </span></span></strong><strong><span style="font-family:times new roman\,serif\;"><span style="font-size:22.0pt\;">11 a.m. at the future build site </span></span></strong><br />\n&nbsp\;<strong><span style="font-family:times new roman\,serif\;"><span style="font-size:24.0pt\;">76 Central Avenue\, Ayer</span></span></strong><br />\n&nbsp\;\n<div style="border:solid #4472C4 1.0pt\;padding:1.0pt 4.0pt 1.0pt 4.0pt\;"><strong><span style="font-family:times new roman\,serif\;"><span style="font-size:20.0pt\;">For more information on the build or the Local Project Committee go to <a href="http://www.ncmhabitat.org/">www.ncmhabitat.org</a></span></span></strong><br />\n&nbsp\;</div>\n
LOCATION:
UID:e.518.18106
SEQUENCE:3
DTSTAMP:20260425T000223Z
URL:http://nashoba.preview.gochambermaster.com/events/details/groundbreaking-ceremony-habitat-for-humanity-ncm-s-ayer-build-10-06-2014-18106
END:VEVENT

END:VCALENDAR
