BEGIN:VCALENDAR
VERSION:2.0
PRODID:-//ChamberMaster//Event Calendar 2.0//EN
METHOD:PUBLISH
X-PUBLISHED-TTL:P3D
REFRESH-INTERVAL:P3D
CALSCALE:GREGORIAN
BEGIN:VEVENT
DTSTART;VALUE=DATE:20131203
DTEND;VALUE=DATE:20131204
TRANSP:TRANSPARENT
X-MICROSOFT-CDO-ALLDAYEVENT:TRUE
SUMMARY:Government Affairs Committee Meeting - 12/03/2013
DESCRIPTION:Join us at our December 3rd Government Affairs Committee Meeting\n\n\n\nWe'll be joined by two guest speakers   Joe Avellone and Juliette Kayyen - speaking about their individual runs for office.  \n\n \n\nThis meeting is free and open to members of the Nashoba Valley Chamber of Commerce.  Pre-registration required.  Coffee will be provided.  Non-members interested in joining can contact Chamber President\, Melissa Fetterhoff at 978-772-6976 or via email at Melissa@nvcoc.com\n\n \n\n \n\nJoe Avellone is a Democrat from Wellesley running for Governor of Massachusetts. Joe has served in various management leadership roles throughout his distinguished private and public sector career\, including surgeon\, entrepreneur\, healthcare executive\, Selectman and Lieutenant Commander in the U.S. Navy Reserves. He knows how to create jobs and develop a competitive workforce for the global marketplace. Joe's experience in healthcare management also provides him with a deep understanding of the fiscal governance necessary to lead Massachusetts through budgetary challenges and rising healthcare costs.  For more information visit - http://www.avelloneforgovernor.com\n\n \n\nLeaders show their true skill and abilities at times of crisis or challenge. Juliette Kayyem's career is made of such moments. From Massachusetts to Washington\, DC and around the world\, she has been the person turned to when decision making matters most\, leading with a calm demeanor\, determined approach\, and ability to bring people together.\n\nAn appointee to both Governor Deval Patrick and President Barack Obama's Administrations\, she has made government work for citizens when it matters the most. As a homeland security expert\, Juliette knows what it means to bring together every facet of society and work towards common solutions with a clear path forward. Her career is proof that progressive politics and safety and security policy strengthen one another. For more information visit  http://www.juliettekayyem.com/
X-ALT-DESC;FMTTYPE=text/html:<strong><span style="font-family:franklin gothic book\,sans-serif\;"><span style="font-size:12pt\;">Join us at our December 3<sup>rd</sup> Government Affairs Committee Meeting</span></span></strong><br />\n<br />\n<strong><span style="font-family:franklin gothic book\,sans-serif\;"><span style="font-size:12pt\;">We&rsquo\;ll be joined by two guest speakers &ndash\; Joe Avellone and Juliette Kayyen - speaking about their individual runs for office. &nbsp\;</span></span></strong><br />\n&nbsp\;<br />\n<strong><span style="font-family:franklin gothic book\,sans-serif\;"><span style="font-size:12pt\;">This meeting is free and open to members of the Nashoba Valley Chamber of Commerce. &nbsp\;Pre-registration required. &nbsp\;Coffee will be provided.&nbsp\; Non-members interested in joining can contact Chamber President\, Melissa Fetterhoff at 978-772-6976 or via email at <a href="mailto:Melissa@nvcoc.com">Melissa@nvcoc.com</a></span></span></strong><br />\n&nbsp\;<br />\n&nbsp\;<br />\n<span style="font-size:12px\;"><strong><span style="font-family:franklin gothic book\,sans-serif\;">Joe Avellone </span></strong><span style="font-family:franklin gothic book\,sans-serif\;">is a Democrat from Wellesley running for Governor of Massachusetts. Joe has served in various management leadership roles throughout his distinguished private and public sector career\, including surgeon\, entrepreneur\, healthcare executive\, Selectman and Lieutenant Commander in the U.S. Navy Reserves. He knows how to create jobs and develop a competitive workforce for the global marketplace. Joe&rsquo\;s experience in healthcare management also provides him with a deep understanding of the fiscal governance necessary to lead Massachusetts through budgetary challenges and rising healthcare costs.&nbsp\; For more information visit - </span><span style="font-family:franklin gothic book\,sans-serif\;"><a href="http://www.avelloneforgovernor.com/">http://www.avelloneforgovernor.com</a></span><br />\n&nbsp\;<br />\n<span style="font-family:franklin gothic book\,sans-serif\;">Leaders show their true skill and abilities at times of crisis or challenge. <strong>Juliette Kayyem&#39\;s</strong> career is made of such moments. From Massachusetts to Washington\, DC and around the world\, she has been the person turned to when decision making matters most\, leading with a calm demeanor\, determined approach\, and ability to bring people together.<br />\nAn appointee to both Governor Deval Patrick and President Barack Obama&rsquo\;s Administrations\, she has made government work for citizens when it matters the most. As a homeland security expert\, Juliette knows what it means to bring together every facet of society and work towards common solutions with a clear path forward. Her career is proof that progressive politics and safety and security policy strengthen one another. For more information visit &ndash\;</span><span style="font-family:franklin gothic book\,sans-serif\;"><a href="http://www.juliettekayyem.com/">http://www.juliettekayyem.com/</a></span></span><br />\n<br />\n<br />\n<br />\n<br />\n<br />\n
LOCATION:Nashoba Valley Chamber of Commerce 100 Sherman Ave Devens MA 01434
UID:e.518.15191
SEQUENCE:3
DTSTAMP:20260425T182626Z
URL:http://nashoba.preview.gochambermaster.com/events/details/government-affairs-committee-meeting-12-03-2013-12-03-2013-15191
END:VEVENT

END:VCALENDAR
