BEGIN:VCALENDAR
VERSION:2.0
PRODID:-//ChamberMaster//Event Calendar 2.0//EN
METHOD:PUBLISH
X-PUBLISHED-TTL:P3D
REFRESH-INTERVAL:P3D
CALSCALE:GREGORIAN
BEGIN:VEVENT
DTSTART;VALUE=DATE:20140416
DTEND;VALUE=DATE:20140417
TRANSP:TRANSPARENT
X-MICROSOFT-CDO-ALLDAYEVENT:TRUE
SUMMARY:* Fruitlands Museum 100th Season
DESCRIPTION:Mark Your Calendar!\n\nWednesday\, April 16\, marks the beginning of our 100th Season! We have great programs and events lined up to celebrate this amazing milestone\, starting with Centennial Saturday on June 21st - the actual anniversary of the dedication in 1914. We'll have FREE admission\, live music\, crafts\, games and birthday cake. Click here to peruse the 2014 calendar of events and get ready to party!
X-ALT-DESC;FMTTYPE=text/html:<strong><span style="color:#0D4772\;"><span style="font-family:arial narrow\,sans-serif\;"><span style="font-size:14.0pt\;">Mark Your Calendar!</span></span></span></strong><br />\n<span style="color:#3F3F3F\;"><span style="font-family:arial\,sans-serif\;"><span style="font-size:10.0pt\;">Wednesday\, April 16\, marks the beginning of our </span></span></span><strong><span style="color:maroon\;"><span style="font-family:arial\,sans-serif\;"><span style="font-size:10.0pt\;">100th Season!</span></span></span></strong><span style="color:#3F3F3F\;"><span style="font-family:arial\,sans-serif\;"><span style="font-size:10.0pt\;"> We have great programs and events lined up to celebrate this amazing milestone\, starting with Centennial Saturday on June 21st - the actual anniversary of the dedication in 1914. We&#39\;ll have FREE admission\, live music\, crafts\, games and birthday cake. <a href="http://r20.rs6.net/tn.jsp?f=001kTP1cmOZcHSWL8EMipBSsbx5944q8Aq4Xq1F-wo2zsOeh-QLp9hbSGPwjPTH-bqRK79si_TH0Z2jYuHetLKUmHVKmI56iuz08BV6gI8PcggzXgGH43sPYgezzdQ-WOS6JGjA5aw_jFazytfyyOX-mssSOJdOGfIx4xRl38NQKssrvjNbPPyfln0KEsHELWROTLW99c5YWsk=&amp\;c=WJBg7GEsd-wvE_ZyC2_8y1baG__nplEODTPr2QQlFN7EB4WvLbqQng==&amp\;ch=78_i9pYAxHtTQLLP30H1kqND61wCgLLt8H0l2MbROtGBFWV4pELS2g==" target="_blank"><strong><span style="text-decoration:none\;text-underline:none\;"><span style="color:maroon\;">Click here</span></span></strong></a> to peruse the 2014 calendar of events and get ready to party!</span></span></span>
LOCATION:
UID:e.518.16713
SEQUENCE:3
DTSTAMP:20260425T104258Z
URL:http://nashoba.preview.gochambermaster.com/events/details/fruitlands-museum-100th-season-04-16-2014-16713
END:VEVENT

END:VCALENDAR
