BEGIN:VCALENDAR
VERSION:2.0
PRODID:-//ChamberMaster//Event Calendar 2.0//EN
METHOD:PUBLISH
X-PUBLISHED-TTL:P3D
REFRESH-INTERVAL:P3D
CALSCALE:GREGORIAN
BEGIN:VEVENT
DTSTART:20131129T150000Z
DTEND:20131129T180000Z
X-MICROSOFT-CDO-ALLDAYEVENT:FALSE
SUMMARY:Free Small Business Counseling - SCORE
DESCRIPTION:SCORE\, Counselors to America's Small Business\, a resource partner of the SBA\, will now offer small business counseling in our offices at the Chamber.\n\n	SCORE\, a national non-profit association founded in 1964\, now has 389 Chapters\, 900 offices\, and more than 1200 counselors across the U.S. all dedicated to sharing their wealth of business experience on a free and confidential basis. SCORE is made up of retired business owners and executives\, most having 30 plus years of practical business advice they want to share with Small Businesses.\n\n	A SCORE counselor has committed to set aside 3 hours (10:00\, 11am and Noon) every Friday morning to accept 1 hour appointments. Just call the Chamber at 978-772-6976 and schedule your consultation.
X-ALT-DESC;FMTTYPE=text/html:<p style="color: rgb(0\, 51\, 153)\; font-family: VERDANA\, HELVETICA\, ARIAL\, sans-serif\; font-size: medium\;">\n	<font size="-1">SCORE\, Counselors to America&#39\;s Small Business\, a resource partner of the SBA\, will now offer small business counseling in our offices at the Chamber.</font></p>\n<p style="color: rgb(0\, 51\, 153)\; font-family: VERDANA\, HELVETICA\, ARIAL\, sans-serif\; font-size: medium\;">\n	<font size="-1">SCORE\, a national non-profit association founded in 1964\, now has 389 Chapters\, 900 offices\, and more than 1200 counselors across the U.S. all dedicated to sharing their wealth of business experience on a free and confidential basis. SCORE is made up of retired business owners and executives\, most having 30 plus years of practical business advice they want to share with Small Businesses.</font></p>\n<p style="color: rgb(0\, 51\, 153)\; font-family: VERDANA\, HELVETICA\, ARIAL\, sans-serif\; font-size: medium\;">\n	<font size="-1">A SCORE counselor has committed to set aside 3 hours (10:00\, 11am and Noon) every Friday morning to accept 1 hour appointments. Just call the Chamber at 978-772-6976 and schedule your consultation.</font></p>\n
LOCATION:
UID:e.518.15234
SEQUENCE:3
DTSTAMP:20260426T030310Z
URL:http://nashoba.preview.gochambermaster.com/events/details/free-small-business-counseling-score-11-29-2013-15234
END:VEVENT

END:VCALENDAR
