BEGIN:VCALENDAR
VERSION:2.0
PRODID:-//ChamberMaster//Event Calendar 2.0//EN
METHOD:PUBLISH
X-PUBLISHED-TTL:P3D
REFRESH-INTERVAL:P3D
CALSCALE:GREGORIAN
BEGIN:VEVENT
DTSTART;VALUE=DATE:20131205
DTEND;VALUE=DATE:20131206
TRANSP:TRANSPARENT
X-MICROSOFT-CDO-ALLDAYEVENT:TRUE
SUMMARY:* FREE First Thursday at the Fitchburg Art Museum
DESCRIPTION:https://www.facebook.com/photo.php?fbid=10151905689260528&set=a.463202330527.250292.58671800527&type=1\n\n\n\n\n\nJoin us for FREE First Thursday on December 5th\, 3-7PM! Come see our current exhibitions and do some holiday shopping at the farmer's market (which includes arts vendors) and the FAM gift shop.\n\n\n\nWe have everything you'll need for the art enthusiasts in your life: coffee mugs with art from our permanent collection\, a collaborative 2014 wall calendar between FAM and the Fitchburg Historical Society for Fitchburg's 250th birthday\, 'Masterpiece in a Mill Town' DVDs\, and a limited edition reusable tote bag featuring one of Georgia O'Keeffe's paintings!\n\n\n\nDon't forget -- Members get a 20% discount on gift shop purchases!
X-ALT-DESC;FMTTYPE=text/html:<a href="https://www.facebook.com/photo.php?fbid=10151905689260528&amp\;set=a.463202330527.250292.58671800527&amp\;type=1">https://www.facebook.com/photo.php?fbid=10151905689260528&amp\;set=a.463202330527.250292.58671800527&amp\;type=1</a><br />\n<br />\n<br />\n<span style="color: rgb(51\, 51\, 51)\; font-family: 'lucida grande'\, tahoma\, verdana\, arial\, sans-serif\; font-size: 10.909090995788574px\; line-height: 12.727272033691406px\;">Join us for FREE First Thursday on December 5th\, 3-7PM! Come see our current exhibitions and do some holiday shopping at the farmer&#39\;s market (which includes arts vendors) and the FAM gift shop.</span><br style="color: rgb(51\, 51\, 51)\; font-family: 'lucida grande'\, tahoma\, verdana\, arial\, sans-serif\; font-size: 10.909090995788574px\; line-height: 12.727272033691406px\;" />\n<br style="color: rgb(51\, 51\, 51)\; font-family: 'lucida grande'\, tahoma\, verdana\, arial\, sans-serif\; font-size: 10.909090995788574px\; line-height: 12.727272033691406px\;" />\n<span style="color: rgb(51\, 51\, 51)\; font-family: 'lucida grande'\, tahoma\, verdana\, arial\, sans-serif\; font-size: 10.909090995788574px\; line-height: 12.727272033691406px\;">We have everything you&#39\;ll need for the art enthusiasts in your life: coffee mugs with art from our permanent collection\, a collaborative 2014 wall calendar between FAM and the Fitchburg Historical Society for Fitchburg&#39\;s 250th birthday\, &#39\;Masterpiece in a Mill Town&#39\; DVDs\, and a limited edition reusable tote bag featuring one of Georgia O&#39\;Keeffe&#39\;s paintings!</span><br style="color: rgb(51\, 51\, 51)\; font-family: 'lucida grande'\, tahoma\, verdana\, arial\, sans-serif\; font-size: 10.909090995788574px\; line-height: 12.727272033691406px\;" />\n<br style="color: rgb(51\, 51\, 51)\; font-family: 'lucida grande'\, tahoma\, verdana\, arial\, sans-serif\; font-size: 10.909090995788574px\; line-height: 12.727272033691406px\;" />\n<span style="color: rgb(51\, 51\, 51)\; font-family: 'lucida grande'\, tahoma\, verdana\, arial\, sans-serif\; font-size: 10.909090995788574px\; line-height: 12.727272033691406px\;">Don&#39\;t forget -- Members get a 20% discount on gift shop purchases!</span>
LOCATION:
UID:e.518.15354
SEQUENCE:3
DTSTAMP:20260425T182722Z
URL:http://nashoba.preview.gochambermaster.com/events/details/free-first-thursday-at-the-fitchburg-art-museum-12-05-2013-15354
END:VEVENT

END:VCALENDAR
