BEGIN:VCALENDAR
VERSION:2.0
PRODID:-//ChamberMaster//Event Calendar 2.0//EN
METHOD:PUBLISH
X-PUBLISHED-TTL:P3D
REFRESH-INTERVAL:P3D
CALSCALE:GREGORIAN
BEGIN:VEVENT
DTSTART;VALUE=DATE:20150611
DTEND;VALUE=DATE:20150612
TRANSP:TRANSPARENT
X-MICROSOFT-CDO-ALLDAYEVENT:TRUE
SUMMARY:* Fiske Warren and The Single Tax (at The Harvard Historical Society)
DESCRIPTION:Fiske Warren and The Single Tax \nJune 11\, 2015 @7 pm\n\n\n\nFind out about one man's extraordinary life and his lasting impact on Harvard.\n\nDianne Newton\,  author of "The Harvard Album" will give a very special presentation about Fiske Warren.\n\n\n\nhttp://www.harvardhistory.org
X-ALT-DESC;FMTTYPE=text/html:<div>&nbsp\;</div>\n\n<div><strong><span style="color:red\;"><span style="font-family:arial\,sans-serif\;"><span style="font-size:10.5pt\;">Fiske Warren and The Single Tax&nbsp\;</span></span></span></strong></div>\n<span style="color:#505050\;"><span style="font-family:arial\,sans-serif\;"><span style="font-size:10.5pt\;">June 11\, 2015 @7 pm</span></span></span><br />\n<br />\n<span style="color:#505050\;"><span style="font-family:arial\,sans-serif\;"><span style="font-size:10.5pt\;">Find out about one man&rsquo\;s extraordinary life and his lasting impact on Harvard.<br />\nDianne Newton\,&nbsp\; author of &ldquo\;The Harvard Album&rdquo\; will give a very special presentation about Fiske Warren.</span></span></span><br />\n<br />\n<a href="http://www.harvardhistory.org/">http://www.harvardhistory.org</a><br />\n&nbsp\;
LOCATION:
UID:e.518.20074
SEQUENCE:3
DTSTAMP:20260424T011302Z
URL:http://nashoba.preview.gochambermaster.com/events/details/fiske-warren-and-the-single-tax-at-the-harvard-historical-society-06-11-2015-20074
END:VEVENT

END:VCALENDAR
