BEGIN:VCALENDAR
VERSION:2.0
PRODID:-//ChamberMaster//Event Calendar 2.0//EN
METHOD:PUBLISH
X-PUBLISHED-TTL:P3D
REFRESH-INTERVAL:P3D
CALSCALE:GREGORIAN
BEGIN:VEVENT
DTSTART;VALUE=DATE:20150228
DTEND;VALUE=DATE:20150301
TRANSP:TRANSPARENT
X-MICROSOFT-CDO-ALLDAYEVENT:TRUE
SUMMARY:* Fire Lake (Bob Seger tribute) at Simple Man Saloon
DESCRIPTION:8pm
X-ALT-DESC;FMTTYPE=text/html:8pm<br />\n&nbsp\;
LOCATION:
UID:e.518.20065
SEQUENCE:3
DTSTAMP:20260424T122644Z
URL:http://nashoba.preview.gochambermaster.com/events/details/fire-lake-bob-seger-tribute-at-simple-man-saloon-02-28-2015-20065
END:VEVENT

END:VCALENDAR
