BEGIN:VCALENDAR
VERSION:2.0
PRODID:-//ChamberMaster//Event Calendar 2.0//EN
METHOD:PUBLISH
X-PUBLISHED-TTL:P3D
REFRESH-INTERVAL:P3D
CALSCALE:GREGORIAN
BEGIN:VEVENT
DTSTART;VALUE=DATE:20150218
DTEND;VALUE=DATE:20150219
TRANSP:TRANSPARENT
X-MICROSOFT-CDO-ALLDAYEVENT:TRUE
SUMMARY:* Film Series - Cherokee Word for Water (at Fruiltands Museum)
DESCRIPTION:Wednesday\, February 18\, 7:00PM-8:30PM\n		\n	\n\n\n \n \n\n\n	\n		\n			Film screening: Free of charge\n\n			Soup: $5 per person\n\n			Based on the true story of the Bell Waterline Project\, this movie is about a community coming together to improve the welfare of its residents. Led by Wilma Mankiller\, who went on to become the first woman chief of the Cherokee Nation\, and full-blood Cherokee organizer Charlie Soap\, join forces to build nearly twenty miles of waterline. In the process\, they inspire the community to trust each other and reawaken universal indigenous values of reciprocity and interconnectedness.\n\n			The successful completion of the waterline sparked a movement of similar self-help projects across the Cherokee nation and in Indian country that continues to this day.
X-ALT-DESC;FMTTYPE=text/html:<table align="center" border="0" cellpadding="0" cellspacing="0" style="width:100.0%\;background:#321300\;border-collapse:collapse\;" width="100%">\n	<tbody>\n		<tr>\n			<td style="width:100.0%\;padding:11.25pt 15.0pt 11.25pt 15.0pt\;vertical-align:top\;"><span style="color:white\;"><span style="font-family:tahoma\,sans-serif\;"><span style="font-size:18.0pt\;">Wednesday\, February 18\, 7:00PM-8:30PM</span></span></span></td>\n		</tr>\n	</tbody>\n</table>\n\n<div style="clear:both\;">&nbsp\;</div>\n&nbsp\;\n\n<table align="center" border="0" cellpadding="0" cellspacing="0" style="width:100.0%\;border-collapse:collapse\;" width="100%">\n	<tbody>\n		<tr>\n			<td style="width:100.0%\;padding:6.0pt 22.5pt 6.75pt 22.5pt\;vertical-align:top\;"><strong><span style="color:#7E573B\;"><span style="font-family:arial\,sans-serif\;"><span style="font-size:10.5pt\;">Film screening: Free of charge<br />\n			Soup: $5 per person</span></span></span></strong><br />\n			<span style="color:#7E573B\;"><span style="font-family:arial\,sans-serif\;"><span style="font-size:10.5pt\;">Based on the true story of the Bell&nbsp\;Waterline Project\, this movie is about a community coming together to&nbsp\;improve the welfare of its residents. Led by Wilma Mankiller\, who went on to become the first woman chief&nbsp\;of the Cherokee Nation\, and&nbsp\;full-blood Cherokee organizer&nbsp\;Charlie Soap\, join forces to build nearly twenty miles of waterline. In the process\, they inspire the&nbsp\;community to trust each other and reawaken universal indigenous values of reciprocity and interconnectedness.<br />\n			The successful completion of the waterline sparked a movement&nbsp\;of similar self-help projects across the Cherokee nation and in Indian country that continues to this day.</span></span></span></td>\n		</tr>\n	</tbody>\n</table>\n\n<div style="clear:both\;"><br />\n<br />\n&nbsp\;</div>\n
LOCATION:
UID:e.518.19997
SEQUENCE:3
DTSTAMP:20260424T122731Z
URL:http://nashoba.preview.gochambermaster.com/events/details/film-series-cherokee-word-for-water-at-fruiltands-museum-02-18-2015-19997
END:VEVENT

END:VCALENDAR
