BEGIN:VCALENDAR
VERSION:2.0
PRODID:-//ChamberMaster//Event Calendar 2.0//EN
METHOD:PUBLISH
X-PUBLISHED-TTL:P3D
REFRESH-INTERVAL:P3D
CALSCALE:GREGORIAN
BEGIN:VEVENT
DTSTART;VALUE=DATE:20140104
DTEND;VALUE=DATE:20140105
TRANSP:TRANSPARENT
X-MICROSOFT-CDO-ALLDAYEVENT:TRUE
SUMMARY:* Eyes on Owls at Fruitlands Museum
DESCRIPTION:Eyes on Owls\n\nSaturday\, January 4                       \n\n1-2PM                                                                                  \n\nChildren under 14: $5\, Adults: $10M/$15 NM. Includes admission to WinterFest\n\nSpace is limited. For a reservation call 978-456-3924 x291 or email programming@fruitlands.org\n\nMark and Marcia Wilson will introduce you to live owls of all shapes and sizes and teach you how to spot owls in the wild. Everyone is treated to a hooting lesson!\n\n                                                                                                \n\n \n\nwww.fruitlands.org
X-ALT-DESC;FMTTYPE=text/html:<span style="color:#1f497d\;"><span style="font-family:cambria\,serif\;">Eyes on Owls</span></span><br />\n<span style="color:#254061\;"><span style="font-family:cambria\,serif\;">Saturday\, January 4&nbsp\;&nbsp\;&nbsp\;&nbsp\;&nbsp\;&nbsp\;&nbsp\;&nbsp\;&nbsp\;&nbsp\;&nbsp\;&nbsp\;&nbsp\;&nbsp\;&nbsp\;&nbsp\;&nbsp\;&nbsp\;&nbsp\;&nbsp\;&nbsp\;&nbsp\; </span></span><br />\n<span style="color:#254061\;"><span style="font-family:cambria\,serif\;">1-2PM&nbsp\;&nbsp\;&nbsp\;&nbsp\;&nbsp\;&nbsp\;&nbsp\;&nbsp\;&nbsp\;&nbsp\;&nbsp\;&nbsp\;&nbsp\;&nbsp\;&nbsp\;&nbsp\;&nbsp\; &nbsp\;&nbsp\;&nbsp\;&nbsp\;&nbsp\;&nbsp\;&nbsp\;&nbsp\;&nbsp\;&nbsp\;&nbsp\;&nbsp\;&nbsp\;&nbsp\;&nbsp\;&nbsp\;&nbsp\;&nbsp\;&nbsp\;&nbsp\;&nbsp\;&nbsp\;&nbsp\;&nbsp\;&nbsp\;&nbsp\;&nbsp\;&nbsp\;&nbsp\;&nbsp\;&nbsp\;&nbsp\;&nbsp\;&nbsp\;&nbsp\;&nbsp\;&nbsp\;&nbsp\;&nbsp\;&nbsp\;&nbsp\;&nbsp\;&nbsp\;&nbsp\;&nbsp\;&nbsp\;&nbsp\;&nbsp\;&nbsp\;&nbsp\;&nbsp\;&nbsp\;&nbsp\;&nbsp\;&nbsp\;&nbsp\;&nbsp\;&nbsp\;&nbsp\;&nbsp\;&nbsp\;&nbsp\;&nbsp\; </span></span><br />\n<span style="color:#254061\;"><span style="font-family:cambria\,serif\;">Children under 14: $5\, Adults: $10M/$15 NM. Includes admission to WinterFest</span></span><br />\n<span style="font-family:cambria\,serif\;">Space is limited. For a reservation call 978-456-3924 x291 or email <a href="mailto:programming@fruitlands.org">programming@fruitlands.org</a></span><br />\n<span style="font-family:cambria\,serif\;">Mark and Marcia Wilson will introduce you to live owls of all shapes and sizes and teach you how to spot owls in the wild. Everyone is treated to a hooting lesson!</span><br />\n&nbsp\;&nbsp\;&nbsp\;&nbsp\;&nbsp\;&nbsp\;&nbsp\;&nbsp\;&nbsp\;&nbsp\;&nbsp\;&nbsp\;&nbsp\;&nbsp\;&nbsp\;&nbsp\;&nbsp\;&nbsp\;&nbsp\;&nbsp\;&nbsp\;&nbsp\;&nbsp\;&nbsp\;&nbsp\;&nbsp\;&nbsp\;&nbsp\;&nbsp\;&nbsp\;&nbsp\;&nbsp\;&nbsp\;&nbsp\;&nbsp\;&nbsp\;&nbsp\;&nbsp\;&nbsp\;&nbsp\;&nbsp\;&nbsp\;&nbsp\;&nbsp\;&nbsp\;&nbsp\;&nbsp\;&nbsp\;&nbsp\;&nbsp\;&nbsp\;&nbsp\;&nbsp\;&nbsp\;&nbsp\;&nbsp\;&nbsp\;&nbsp\;&nbsp\;&nbsp\;&nbsp\;&nbsp\;&nbsp\;&nbsp\;&nbsp\;&nbsp\;&nbsp\;&nbsp\;&nbsp\;&nbsp\;&nbsp\;&nbsp\;&nbsp\;&nbsp\;&nbsp\;&nbsp\;&nbsp\;&nbsp\;&nbsp\;&nbsp\;&nbsp\;&nbsp\;&nbsp\;&nbsp\;&nbsp\;&nbsp\;&nbsp\;&nbsp\;&nbsp\;&nbsp\;&nbsp\;&nbsp\;&nbsp\;&nbsp\;&nbsp\;&nbsp\;<br />\n&nbsp\;<br />\n<a href="http://www.fruitlands.org">www.fruitlands.org</a><br />\n&nbsp\;<br />\n<br />\n<br />\n
LOCATION:
UID:e.518.15812
SEQUENCE:3
DTSTAMP:20260425T190625Z
URL:http://nashoba.preview.gochambermaster.com/events/details/eyes-on-owls-at-fruitlands-museum-01-04-2014-15812
END:VEVENT

END:VCALENDAR
