BEGIN:VCALENDAR
VERSION:2.0
PRODID:-//ChamberMaster//Event Calendar 2.0//EN
METHOD:PUBLISH
X-PUBLISHED-TTL:P3D
REFRESH-INTERVAL:P3D
CALSCALE:GREGORIAN
BEGIN:VEVENT
DTSTART;VALUE=DATE:20131215
DTEND;VALUE=DATE:20131216
TRANSP:TRANSPARENT
X-MICROSOFT-CDO-ALLDAYEVENT:TRUE
SUMMARY:* Downtown Ayer Tuba Christmas Concert at Townhall
DESCRIPTION:12/13/13 - Due to the impending snowstorm on Saturday night and Sunday\, the Town has regretfully postponed the Tuba Concert that was scheduled for Sunday.  \n\n	 \n\n\n\n\nSunday\, December 15 the ever popular Tuba Christmas at Town Hall at 1pm - an entire band of tuba players. if you have never been to this\, you are in for a real treat!  \n\nSponsored by the Ayer Business Alliance.
X-ALT-DESC;FMTTYPE=text/html:<span style="color:#ff0000\;"><strong><span style="font-family:arial\,sans-serif\;">12/13/13 -&nbsp\;</span></strong><span style="font-size: 14pt\; font-family: Arial\, sans-serif\;">Due to the impending snowstorm on Saturday night and Sunday\, the Town has regretfully postponed the Tuba Concert that was scheduled for Sunday. &nbsp\;</span></span>\n<div>\n	&nbsp\;</div>\n<br />\n<br />\n<strong><span style="color:black\;"><span style="font-family:arial\,sans-serif\;">Sunday\, December 15</span></span></strong><span style="color:black\;"><span style="font-family:arial\,sans-serif\;"><span style="font-size:14.0pt\;"> the ever popular Tuba Christmas at Town Hall at 1pm - an entire band of tuba players. if you have never been to this\, you are in for a real treat! &nbsp\;</span></span></span><br />\n<em><span style="color:black\;"><span style="font-family:arial\,sans-serif\;"><span style="font-size:14.0pt\;">Sponsored by the Ayer Business Alliance</span></span></span></em><span style="color:black\;"><span style="font-family:arial\,sans-serif\;"><span style="font-size:14.0pt\;">.</span></span></span><br />\n
LOCATION:
UID:e.518.15107
SEQUENCE:3
DTSTAMP:20260425T182723Z
URL:http://nashoba.preview.gochambermaster.com/events/details/downtown-ayer-tuba-christmas-concert-at-townhall-12-15-2013-15107
END:VEVENT

END:VCALENDAR
