BEGIN:VCALENDAR
VERSION:2.0
PRODID:-//ChamberMaster//Event Calendar 2.0//EN
METHOD:PUBLISH
X-PUBLISHED-TTL:P3D
REFRESH-INTERVAL:P3D
CALSCALE:GREGORIAN
BEGIN:VEVENT
DTSTART;VALUE=DATE:20150506
DTEND;VALUE=DATE:20150507
TRANSP:TRANSPARENT
X-MICROSOFT-CDO-ALLDAYEVENT:TRUE
SUMMARY:* Devens Regional Household Hazardous Products Collection Center OPEN
DESCRIPTION:http://devenshhw.com/\n\n\n\n\n\nOpen to residents and pre-qualified businesses of member towns only: \n\nAshby-Ayer-Bolton-Devens-Groton-Harvard-Lancaster-Littleton-Lunenburg-Shirley-Townsend\n\n\n\n\n	\n		\n			\n				\n					\n						\n							\n								\n									Open the first Wednesday and the following Saturday 9AM - Noon\, except for holidays & weather permitting.\n\n									Open to residents and pre-qualified small businesses only.  Proof of residency is required. \n\n									 \n								\n									\n										\n											\n												 2013\n											\n												 2013\n										\n										\n											\n												 March 6 & 9\n											\n												 August 7 & 10 \n										\n										\n											\n												 April 3 & 6\n											\n												 September 4 & 7\n										\n										\n											\n												 May 1 & 4\n											\n												 October 2 & 5\n										\n										\n											\n												June 5 & 8\n											\n												 November 6 & 9\n										\n										\n											\n												July 3 & 6\n											\n												 December 4 & 7\n										\n									\n								\n								\n									 \n								\n									\n										\n											\n												 Residents\n											\n												 Businesses\n										\n										\n											\n												$20 for up to 5 gal. liquid / 5 lbs. powder \n\n												container of material\n\n												$40 for up to 10 gal. liquid /10 lbs. powder \n\n												container of material\n											\n												Business must pre-register & be no larger than a very small quantity generator. Cannot \n\n												service small or larger generator (SQG\, LQG firms). Fees depend on products and volume\n										\n									\n								\n								\n\n								Cash is the preferred form of payment.
X-ALT-DESC;FMTTYPE=text/html:http://devenshhw.com/<br />\n<br />\n<br />\n<font color="#94b0a4" style="font-family: Georgia\, 'Times New Roman'\, Times\, serif\; font-size: 21px\;"><font face="georgia\, times new roman\, times\, serif">Open to residents and pre-qualified businesses of member towns only:&nbsp\;</font></font><br />\n<font color="#94b0a4" style="font-family: Georgia\, 'Times New Roman'\, Times\, serif\; font-size: 21px\;"><font face="Georgia\, serif"><font color="#94b0a4" style="font-size: 21px\;">Ashby-</font>Ayer</font></font><font face="Georgia\, serif" style="color: rgb(110\, 39\, 70)\; font-size: 30px\; line-height: 39px\;"><font _face="Tahoma" color="#94b0a4" style="font-size: 10px\;"><span style="font-size: 21px\;">-</span></font><font color="#94b0a4" style="font-size: 21px\;">Bolton-Devens-Groton-Harvard-Lancaster<b style="font-size: 16px\; line-height: 20px\;"><font style="font-size: 14px\;"><span style="font-size: 21px\; line-height: 27px\;">-</span></font></b>Littleton<b style="font-size: 16px\; line-height: 20px\;"><font style="font-size: 14px\;"><span style="font-size: 21px\; line-height: 27px\;">-</span></font></b>Lunenburg</font><font color="#94b0a4" style="font-size: 16px\;"><b><b style="font-size: 16px\; line-height: 20px\;"><font style="font-size: 14px\;"><span style="font-size: 21px\; line-height: 27px\;">-</span></font></b></b></font></font><font color="#94b0a4" style="font-family: Georgia\, 'Times New Roman'\, Times\, serif\; font-size: 21px\;"><font face="Georgia\, serif">Shirley<span style="font-size: 20px\; line-height: 26px\;"><b style="font-size: 16px\; line-height: 20px\;"><span style="font-size: 21px\; line-height: 27px\;">-</span></b></span>Townsend</font></font><br />\n<br />\n<div class="sf_outer_wrapper" style="padding: 20px 0px 10px\; min-height: 1%\; background-image: url(http://devenshhw.com/images/734_shadow.png)\; color: rgb(0\, 0\, 0)\; font-family: Arial\, Helvetica\, FreeSans\, sans-serif\; font-size: 12px\; line-height: 15px\; height: auto !important\; background-repeat: repeat no-repeat\;">\n	<div class="sf_wrapper" style="border: 1px solid rgb(182\, 182\, 182)\; min-height: 1%\; margin: 0px auto\; padding: 20px\; width: 925px\; height: auto !important\;">\n		<div class="sf_main_wrapper" style="float: left\; width: 925px\; margin-bottom: 20px\;">\n			<div class="sf_main" style="min-height: 200px\; height: auto !important\;">\n				<div class="sf_region6">\n					<div class="sf_pagetitle" style="font-family: Georgia\, 'Times New Roman'\, Times\, serif\; font-size: 20px\; margin-bottom: 10px\; margin-left: 10px\; color: rgb(2\, 114\, 63)\;">\n						<div>\n							<blockquote style="margin: 1.5em\;">\n								<p style="margin: 0px 0px 1.5em\; padding: 0px\;">\n									<font face="Arial\, Helvetica\, sans-serif"><font style="font-size: 16px\;"><font color="#02723f">Open the first&nbsp\;</font><strong>Wednesday</strong><font color="#02723f">&nbsp\;and the following&nbsp\;</font><strong>Saturday</strong><font color="#02723f">&nbsp\;9AM - Noon\, except for holidays &amp\; weather permitting.</font><br />\n									<font style="font-size: 14px\;"><i>Open to residents and pre-qualified small businesses only.&nbsp\; Proof of residency is required.</i></font><font color="#02723f">&nbsp\;</font></font></font><br />\n									&nbsp\;</p>\n								<table border="1" cellpadding="1" cellspacing="1" class="Table-Basic" style="width: 250px\;">\n									<tbody>\n										<tr>\n											<td>\n												<font face="Arial\, Helvetica\, sans-serif"><font style="font-size: 16px\;">&nbsp\;<font style="font-size: 14px\;"><strong><strong style="font-family: arial\, helvetica\, sans-serif\; font-size: 14px\;">2013</strong></strong></font></font></font></td>\n											<td>\n												<font face="Arial\, Helvetica\, sans-serif"><font style="font-size: 16px\;">&nbsp\;<font style="font-size: 14px\;"><strong>2013</strong></font></font></font></td>\n										</tr>\n										<tr>\n											<td>\n												<font face="Arial\, Helvetica\, sans-serif"><font style="font-size: 16px\;"><font style="font-size: 14px\;"><span style="font-family: arial\, helvetica\, sans-serif\; font-size: 14px\;">&nbsp\;<span style="font-size: 14px\; line-height: 18px\;">March&nbsp\;</span><span style="font-size: 14px\; line-height: 18px\;">6 &amp\; 9</span></span></font></font></font></td>\n											<td>\n												<font face="Arial\, Helvetica\, sans-serif"><font style="font-size: 16px\;"><font style="font-size: 14px\;"><span style="font-size: 14px\;">&nbsp\;<span style="font-size: 14px\; line-height: 18px\; font-family: arial\, helvetica\, sans-serif\;">August 7 &amp\; 10</span><span style="font-size: 14px\; line-height: 18px\; font-family: arial\, helvetica\, sans-serif\;">&nbsp\;</span></span></font></font></font></td>\n										</tr>\n										<tr>\n											<td>\n												<font face="Arial\, Helvetica\, sans-serif"><font style="font-size: 16px\;"><font size="1">&nbsp\;<span style="font-size: 14px\; line-height: 18px\; font-family: arial\, helvetica\, sans-serif\;">April&nbsp\;</span><span style="font-size: 14px\; line-height: 18px\; font-family: arial\, helvetica\, sans-serif\;">3 &amp\; 6</span></font></font></font></td>\n											<td>\n												<font face="Arial\, Helvetica\, sans-serif"><font style="font-size: 16px\;"><font style="font-size: 14px\;"><span style="font-family: arial\, helvetica\, sans-serif\; font-size: 14px\;">&nbsp\;<span style="font-size: 14px\; line-height: 18px\;">September 4 &amp\; 7</span></span></font></font></font></td>\n										</tr>\n										<tr>\n											<td>\n												<font face="Arial\, Helvetica\, sans-serif"><font style="font-size: 16px\;"><font style="font-size: 14px\;"><font style="font-family: arial\, helvetica\, sans-serif\; font-size: 14px\;">&nbsp\;<span style="font-size: 14px\; line-height: 18px\;">May&nbsp\;</span><span style="font-size: 14px\; line-height: 18px\;">1 &amp\; 4</span></font></font></font></font></td>\n											<td>\n												<font face="Arial\, Helvetica\, sans-serif"><font style="font-size: 16px\;"><font size="1"><span style="font-family: arial\, helvetica\, sans-serif\; font-size: 14px\;">&nbsp\;<span style="font-size: 14px\; line-height: 18px\;">October 2 &amp\; 5</span></span></font></font></font></td>\n										</tr>\n										<tr>\n											<td>\n												<font face="Arial\, Helvetica\, sans-serif"><font style="font-size: 16px\;"><font style="font-size: 14px\;"><span style="font-family: arial\, helvetica\, sans-serif\; font-size: 14px\; line-height: 18px\;">June</span><span style="font-family: arial\, helvetica\, sans-serif\; font-size: 14px\; line-height: 18px\;">&nbsp\;</span><span style="font-family: arial\, helvetica\, sans-serif\; font-size: 14px\; line-height: 18px\;">5 &amp\; 8</span></font></font></font></td>\n											<td>\n												<font face="Arial\, Helvetica\, sans-serif"><font style="font-size: 16px\;"><font style="font-size: 14px\;">&nbsp\;<span style="font-size: 14px\; line-height: 18px\; font-family: arial\, helvetica\, sans-serif\;">November 6 &amp\; 9</span></font></font></font></td>\n										</tr>\n										<tr>\n											<td>\n												<font face="Arial\, Helvetica\, sans-serif"><font style="font-size: 16px\;"><font style="font-size: 10px\;"><span style="font-family: arial\, helvetica\, sans-serif\; font-size: 14px\; line-height: 18px\;">July</span><span style="font-family: arial\, helvetica\, sans-serif\; font-size: 14px\; line-height: 18px\;">&nbsp\;3 &amp\; 6</span></font></font></font></td>\n											<td>\n												<font face="Arial\, Helvetica\, sans-serif"><font style="font-size: 16px\;"><font size="1"><span style="font-family: arial\, helvetica\, sans-serif\; font-size: 14px\;">&nbsp\;<span style="font-size: 14px\;">December 4</span><span style="font-size: 14px\;">&nbsp\;&amp\; 7</span></span></font></font></font></td>\n										</tr>\n									</tbody>\n								</table>\n								<p style="margin: 0px 0px 1.5em\; padding: 0px\;">\n									<font face="Arial\, Helvetica\, sans-serif"><font style="font-size: 16px\;">&nbsp\;</font></font></p>\n								<table border="1" cellpadding="1" cellspacing="1" style="width: 853px\;">\n									<tbody>\n										<tr>\n											<td>\n												<em><font style="font-size: 14px\;"><font style="font-size: 16px\;"><font color="#02723f" face="Arial\, Helvetica\, sans-serif" style="font-size: 16px\;">&nbsp\;<strong><font style="font-size: 14px\;">Residents</font></strong></font></font></font></em></td>\n											<td>\n												<em><font style="font-size: 14px\;"><font style="font-size: 16px\;"><font color="#02723f" face="Arial\, Helvetica\, sans-serif" style="font-size: 16px\;">&nbsp\;<strong><font style="font-size: 14px\;">Businesses</font></strong></font></font></font></em></td>\n										</tr>\n										<tr>\n											<td>\n												<em><font style="font-size: 14px\;"><font style="font-size: 16px\;"><font color="#02723f" face="Arial\, Helvetica\, sans-serif" style="font-size: 16px\;"><font style="font-size: 14px\;">$20 for up to 5 gal. liquid / 5 lbs. powder&nbsp\;<br />\n												container&nbsp\;of material<br />\n												$40 for up to 10 gal. liquid /10 lbs. powder&nbsp\;<br />\n												container of material</font></font></font></font></em></td>\n											<td>\n												<em><font style="font-size: 14px\;"><font style="font-size: 16px\;"><font color="#02723f" face="Arial\, Helvetica\, sans-serif" style="font-size: 16px\;"><font style="font-size: 14px\;">Business must pre-register &amp\; be no larger than a very small quantity generator. Cannot&nbsp\;<br />\n												service&nbsp\;small or larger generator (SQG\, LQG firms). Fees depend on products and volume</font></font></font></font></em></td>\n										</tr>\n									</tbody>\n								</table>\n								<br />\n								<em><font style="font-size: 14px\;"><font style="font-size: 16px\;"><font color="#02723f" face="Arial\, Helvetica\, sans-serif" style="font-size: 16px\;">Cash is the preferred form of payment.</font></font></font></em><br />\n								&nbsp\;</blockquote>\n						</div>\n					</div>\n					<div class="sf_content" style="min-height: 1%\; height: auto !important\;">\n						<div style="zoom: 1\;">\n							<div id="content1" style="width: 880.03125px\; padding: 5px 10px\; overflow: hidden\; position: relative\;">\n								<div>\n									&nbsp\;</div>\n								<div>\n									&nbsp\;</div>\n								<div>\n									&nbsp\;</div>\n							</div>\n						</div>\n					</div>\n				</div>\n			</div>\n		</div>\n		<div class="sf_region9">\n			&nbsp\;</div>\n		<div class="sf_extra8" style="clear: both\;">\n			&nbsp\;</div>\n	</div>\n	<div class="sf_extra9">\n		&nbsp\;</div>\n</div>\n<div class="sf_region10" style="font-size: 11px\; text-align: center\; clear: both\; color: rgb(0\, 0\, 0)\; font-family: Arial\, Helvetica\, FreeSans\, sans-serif\;">\n	<div class="sf_footer" style="margin: 5px 0px 20px\; color: rgb(153\, 153\, 153)\;">\n		&nbsp\;</div>\n</div>\n<br />\n
LOCATION:
UID:e.518.14416
SEQUENCE:3
DTSTAMP:20260424T041345Z
URL:http://nashoba.preview.gochambermaster.com/events/details/devens-regional-household-hazardous-products-collection-center-open-05-06-2015-14416
END:VEVENT

END:VCALENDAR
