BEGIN:VCALENDAR
VERSION:2.0
PRODID:-//ChamberMaster//Event Calendar 2.0//EN
METHOD:PUBLISH
X-PUBLISHED-TTL:P3D
REFRESH-INTERVAL:P3D
CALSCALE:GREGORIAN
BEGIN:VEVENT
DTSTART;VALUE=DATE:20150428
DTEND;VALUE=DATE:20150429
TRANSP:TRANSPARENT
X-MICROSOFT-CDO-ALLDAYEVENT:TRUE
SUMMARY:CRN - Massages
DESCRIPTION:CRN Member\, Doug Casault of HealthSource of Littleton/Deans Family Chiropractic\, will be providing complimentary chair massages and pain elimination/injury prevention and injury recovery consultations following our April 28th CRN Meeting. \n\n\n\nSign up with the Chamber office today!
X-ALT-DESC;FMTTYPE=text/html:CRN Member\, Doug Casault of HealthSource of Littleton/Deans Family Chiropractic\, will be providing complimentary chair massages and pain elimination/injury prevention and injury recovery consultations following our April 28th CRN Meeting.&nbsp\;<br />\n<br />\nSign up with the Chamber office today!<br />\n<br />\n&nbsp\;
LOCATION:NVCoC 100 Sherman Ave. Devens
UID:e.518.20640
SEQUENCE:3
DTSTAMP:20260424T053537Z
URL:http://nashoba.preview.gochambermaster.com/events/details/crn-massages-04-28-2015-20640
END:VEVENT

END:VCALENDAR
