BEGIN:VCALENDAR
VERSION:2.0
PRODID:-//ChamberMaster//Event Calendar 2.0//EN
METHOD:PUBLISH
X-PUBLISHED-TTL:P3D
REFRESH-INTERVAL:P3D
CALSCALE:GREGORIAN
BEGIN:VEVENT
DTSTART;VALUE=DATE:20140207
DTEND;VALUE=DATE:20140208
TRANSP:TRANSPARENT
X-MICROSOFT-CDO-ALLDAYEVENT:TRUE
SUMMARY:* Comedy Hypnotist Fundraiser to benefit Habitat for Humanity NCentral
DESCRIPTION:Feb 7\, 2014\n\nKnights of Columbus\n\n84 Lancaster Street\, Leominster\n\nCost $20 per ticket\n\n\n\nReserved seating for groups of 8-10 close to the stage\n\nGeneral seating for single tickets\n\ntickets at door\n\n\n\nHappy Hour 7-8pm\n\nShow 8-10pm\n\n\n\nFor tickets and information:\n\nKath-e Westwood\n\n978-632-8703\n\nscubakathe@comcast.net
X-ALT-DESC;FMTTYPE=text/html:Feb 7\, 2014<br />\nKnights of Columbus<br />\n84 Lancaster Street\, Leominster<br />\nCost $20 per ticket<br />\n<br />\nReserved seating for groups of 8-10 close to the stage<br />\nGeneral seating for single tickets<br />\ntickets at door<br />\n<br />\nHappy Hour 7-8pm<br />\nShow 8-10pm<br />\n<br />\nFor tickets and information:<br />\nKath-e Westwood<br />\n978-632-8703<br />\nscubakathe@comcast.net&nbsp\;&nbsp\;&nbsp\;&nbsp\;<br />\n<br />\n
LOCATION:
UID:e.518.16019
SEQUENCE:3
DTSTAMP:20260425T173848Z
URL:http://nashoba.preview.gochambermaster.com/events/details/comedy-hypnotist-fundraiser-to-benefit-habitat-for-humanity-ncentral-02-07-2014-16019
END:VEVENT

END:VCALENDAR
