BEGIN:VCALENDAR
VERSION:2.0
PRODID:-//ChamberMaster//Event Calendar 2.0//EN
METHOD:PUBLISH
X-PUBLISHED-TTL:P3D
REFRESH-INTERVAL:P3D
CALSCALE:GREGORIAN
BEGIN:VEVENT
DTSTART:20140925T143000Z
DTEND:20140925T153000Z
X-MICROSOFT-CDO-ALLDAYEVENT:FALSE
SUMMARY:CA$H Mob and Ribbon Cutting - Littleton (Archers Mobil & Gourmet Donuts)
DESCRIPTION:Are you ready to $pread a little fun?\n\n \nYou've heard of a FLASH mob\, right??  It's when a group of people show up at a specified time to a specific location\; to do a choreographed song or dance...  we want to do just that (minus the required dancing and singing). And add in the ca$h!\n\n                                                                     \n\nThe idea is this - if you want to participate\, we ask that you register to attend (so we have an estimate as to the number of people showing up).   We ASK that attendees spend $5 (or more!) - Though it is not required.  You can just join in on the fun with us!   Register today...\n\n \n\nWe will also be celebrating the newly renovated Archers Mobil and Gourmet Donuts with a ribbon cutting at 10:30am.  \n\nCome help us celebrate these business successes!  The more the merrier!
X-ALT-DESC;FMTTYPE=text/html:<h3><br />\n<strong><em><span style="font-family:berlin sans fb demi\,sans-serif\;"><span style="font-size:18pt\;">Are you ready to&nbsp\;$pread&nbsp\;a little fun?</span></span></em></strong><br />\n&nbsp\;</h3>\n<em><span style="color:#40AD48\;"><span style="font-size:15.0pt\;">You&rsquo\;ve heard of a FLASH mob\, right??&nbsp\; It&rsquo\;s when a group of people show up at a specified time to a specific location\; to do a choreographed song or dance...&nbsp\; we want to do just that (minus the required dancing and singing). And add in the ca$h!</span></span></em><br />\n&nbsp\;&nbsp\;&nbsp\;&nbsp\;&nbsp\;&nbsp\;&nbsp\;&nbsp\;&nbsp\;&nbsp\;&nbsp\;&nbsp\;&nbsp\;&nbsp\;&nbsp\;&nbsp\;&nbsp\;&nbsp\;&nbsp\;&nbsp\;&nbsp\;&nbsp\;&nbsp\;&nbsp\;&nbsp\;&nbsp\;&nbsp\;&nbsp\;&nbsp\;&nbsp\;&nbsp\;&nbsp\;&nbsp\;&nbsp\;&nbsp\;&nbsp\;&nbsp\;&nbsp\;&nbsp\;&nbsp\;&nbsp\;&nbsp\;&nbsp\;&nbsp\;&nbsp\;&nbsp\;&nbsp\;&nbsp\;&nbsp\;&nbsp\;&nbsp\;&nbsp\;&nbsp\;&nbsp\;&nbsp\;&nbsp\;&nbsp\;&nbsp\;&nbsp\;&nbsp\;&nbsp\;&nbsp\;&nbsp\;&nbsp\;&nbsp\;&nbsp\;&nbsp\;&nbsp\;&nbsp\;<br />\n<em><span style="color:#40AD48\;"><span style="font-size:14.0pt\;">The idea is this - if you want to participate\, we ask that you register to attend (so we have an estimate as to the number of people showing up).&nbsp\;&nbsp\; We ASK that attendees spend $5 (or more!) - Though it is not required.&nbsp\; You can just join in on the fun with us!&nbsp\;&nbsp\; Register today...</span></span></em><br />\n&nbsp\;<br />\n<span style="color:#376092\;"><span style="font-size:15.0pt\;"><span style="color:windowtext\;">We will also be celebrating the newly renovated Archers Mobil and Gourmet Donuts with a ribbon cutting at 10:30am. &nbsp\;<br />\n<em>Come help us celebrate these business successes!&nbsp\; The more the merrier!</em></span></span></span><br />\n<br />\n<br />\n<br />\n<br />\n&nbsp\;
LOCATION:Archers Mobil / Gourmet Donuts 500 King Street Littleton MA 01460
UID:e.518.18050
SEQUENCE:3
DTSTAMP:20260425T011525Z
URL:http://nashoba.preview.gochambermaster.com/events/details/ca-h-mob-and-ribbon-cutting-littleton-archers-mobil-gourmet-donuts-09-25-2014-18050
END:VEVENT

END:VCALENDAR
