BEGIN:VCALENDAR
VERSION:2.0
PRODID:-//ChamberMaster//Event Calendar 2.0//EN
METHOD:PUBLISH
X-PUBLISHED-TTL:P3D
REFRESH-INTERVAL:P3D
CALSCALE:GREGORIAN
BEGIN:VEVENT
DTSTART:20140206T131000Z
DTEND:20140206T133000Z
X-MICROSOFT-CDO-ALLDAYEVENT:FALSE
SUMMARY:Business Buzz on WPKZ Radio - 02/06/2014
DESCRIPTION:Listen in on the Chamber's Radio Show -- Business Buzz\n\n	\n\n	Every other Thursday on the Daily Pulse with David Martinez\n\n	of WPKZ 105.3FM / AM 1280\n\n	\n\n	Sponsored by ISS\n\n	\n\n	Today's special guest is Maegen McCaffrey of RCAP Solutions
X-ALT-DESC;FMTTYPE=text/html:<h2>\n	<br />\n	<span style="font-size:14px\;"><span style="font-family:tahoma\;">Listen in on the Chamber&#39\;s Radio Show --&nbsp\;Business Buzz<br />\n	<br />\n	Every other Thursday&nbsp\;on the Daily Pulse with&nbsp\;David Martinez<br />\n	of&nbsp\;WPKZ&nbsp\;105.3FM / AM 1280<br />\n	<br />\n	Sponsored by ISS<br />\n	<br />\n	Today&#39\;s special guest is Maegen McCaffrey of RCAP Solutions</span></span></h2>\n<br />\n<br />\n<br />\n<br />\n<br />\n<br />\n<br />\n<br />\n
LOCATION:
UID:e.518.16139
SEQUENCE:3
DTSTAMP:20260425T155308Z
URL:http://nashoba.preview.gochambermaster.com/events/details/business-buzz-on-wpkz-radio-02-06-2014-02-06-2014-16139
END:VEVENT

END:VCALENDAR
