BEGIN:VCALENDAR
VERSION:2.0
PRODID:-//ChamberMaster//Event Calendar 2.0//EN
METHOD:PUBLISH
X-PUBLISHED-TTL:P3D
REFRESH-INTERVAL:P3D
CALSCALE:GREGORIAN
BEGIN:VEVENT
DTSTART;VALUE=DATE:20140404
DTEND;VALUE=DATE:20140405
TRANSP:TRANSPARENT
X-MICROSOFT-CDO-ALLDAYEVENT:TRUE
SUMMARY:* Bull Run Comedy Show: Bob Marley
DESCRIPTION:4-4-2014 (Sawtelle Room) \n\n\n\nThat's right\, he's back again! And it's sure to be a sell-out\, so get your tickets early. \n\n\n\nThis guy's not funny\, he's a riot. Celebrating 15 years as a stand-up comic\, Bob Marley is one of the hottest and most sought-after comedians in the country. He has been featured in his own special on Comedy Central\, and is one of the few comics to do the complete late-night TV circuit: "The Late Show" with David Letterman\, "The Tonight Show" with Jay Leno\, "Late Night" with Conan O'Brien and "The Late Late Show" with Craig Ferguson and Craig Kilborn. A regular at the Aspen and Montreal comedy festivals\, Marley was named one of Variety's "10 Comics to Watch\," Marley has also appeared in several films\, including the cult favorite\, "Boondock Saints\," where he played Detective Greenley. Marley\, a Maine native and University of Maine at Farmington graduate\, uses biographical and observational material for his high-energy routines. He began his career in his hometown of Portland\, and then moved to Boston to gain experience in a city known for spawning comedy all-stars. He works nonstop throughout the country\, in such cities as Los Angles\, Las Vegas\, Washington\, D.C.\, Boston\, New York and Denver. And after living in Los Angles for several years\, he\, his wife and three children have returned to Maine to live. \n\nWatch video clip HERE         -              More info at: www.bmarley.com
X-ALT-DESC;FMTTYPE=text/html:<span style="color: rgb(42\, 42\, 42)\; font-family: 'Open Sans'\, Arial\, Helvetica\, sans-serif\; letter-spacing: 0.20000000298023224px\; background-color: rgb(255\, 255\, 255)\; font-size: small\;"><strong><span style="color: maroon\;">4-4-2014 (Sawtelle Room)</span></strong>&nbsp\;<br />\n<br />\n<strong>That&#39\;s right\, he&#39\;s back again!</strong>&nbsp\;And it&#39\;s sure to be a sell-out\, so get your tickets early.&nbsp\;<br />\n<br />\n<strong>This guy&#39\;s not funny\, he&#39\;s a riot.</strong>&nbsp\;Celebrating 15 years as a stand-up comic\, Bob Marley is one of the hottest and most sought-after comedians in the country. He has been featured in his own special on&nbsp\;<strong>Comedy Central</strong>\, and is one of the few comics to do the complete late-night TV circuit:&nbsp\;<strong>&ldquo\;The Late Show&rdquo\;</strong>&nbsp\;with&nbsp\;<strong>David Letterman</strong>\,&nbsp\;<strong>&ldquo\;The Tonight Show&rdquo\;</strong>&nbsp\;with&nbsp\;<strong>Jay Leno</strong>\,&nbsp\;<strong>&ldquo\;Late Night&rdquo\;</strong>&nbsp\;with&nbsp\;<strong>Conan O&rsquo\;Brien</strong>&nbsp\;and&nbsp\;<strong>&ldquo\;The Late Late Show&rdquo\;</strong>&nbsp\;with&nbsp\;<strong>Craig Ferguson</strong>&nbsp\;and&nbsp\;<strong>Craig Kilborn</strong>. A regular at the Aspen and Montreal comedy festivals\, Marley was named one of&nbsp\;<strong>Variety&rsquo\;s &ldquo\;10 Comics to Watch\,&rdquo\;</strong>&nbsp\;Marley has also appeared in several films\, including the cult favorite\,&nbsp\;<strong>&ldquo\;Boondock Saints\,&rdquo\;</strong>&nbsp\;where he played Detective Greenley. Marley\, a Maine native and University of Maine at Farmington graduate\, uses biographical and observational material for his high-energy routines. He began his career in his hometown of Portland\, and then moved to Boston to gain experience in a city known for spawning comedy all-stars. He works nonstop throughout the country\, in such cities as Los Angles\, Las Vegas\, Washington\, D.C.\, Boston\, New York and Denver. And after living in Los Angles for several years\, he\, his wife and three children have returned to Maine to live.&nbsp\;</span><br style="color: rgb(42\, 42\, 42)\; font-family: 'Open Sans'\, Arial\, Helvetica\, sans-serif\; font-size: 14px\; letter-spacing: 0.20000000298023224px\; background-color: rgb(255\, 255\, 255)\;" />\n<span style="color: rgb(42\, 42\, 42)\; font-family: 'Open Sans'\, Arial\, Helvetica\, sans-serif\; letter-spacing: 0.20000000298023224px\; background-color: rgb(255\, 255\, 255)\; font-size: small\;">Watch video clip&nbsp\;<a href="http://www.youtube.com/watch?v=Tv6K6nMqA3k" style="color: rgb(148\, 18\, 0)\; text-decoration: none\;" target="site">HERE</a>&nbsp\;&nbsp\;&nbsp\;&nbsp\;&nbsp\;&nbsp\;&nbsp\;&nbsp\; -&nbsp\;&nbsp\;&nbsp\;&nbsp\;&nbsp\;&nbsp\;&nbsp\;&nbsp\;&nbsp\;&nbsp\;&nbsp\;&nbsp\;&nbsp\; More info at:&nbsp\;<a href="http://www.bmarley.com/" style="color: rgb(148\, 18\, 0)\; text-decoration: none\;" target="site">www.bmarley.com</a></span>
LOCATION:
UID:e.518.16679
SEQUENCE:3
DTSTAMP:20260425T104218Z
URL:http://nashoba.preview.gochambermaster.com/events/details/bull-run-comedy-show-bob-marley-04-04-2014-16679
END:VEVENT

END:VCALENDAR
