BEGIN:VCALENDAR
VERSION:2.0
PRODID:-//ChamberMaster//Event Calendar 2.0//EN
METHOD:PUBLISH
X-PUBLISHED-TTL:P3D
REFRESH-INTERVAL:P3D
CALSCALE:GREGORIAN
BEGIN:VEVENT
DTSTART;VALUE=DATE:20140818
DTEND;VALUE=DATE:20140819
TRANSP:TRANSPARENT
X-MICROSOFT-CDO-ALLDAYEVENT:TRUE
SUMMARY:* BLACK AND WHITE ART CLASS (GRADES 3-7)
DESCRIPTION:NEW!   BLACK AND WHITE ART CLASS (GRADES 3-7)\n\n \n\nInstructor: Kathy Dunn\n\nLocation: Roudenbush\, 65 Main St.\n\n \n\n\nRCC-E11388 Aug 18-Aug 20 (Mon-Wed) 10:00 am-1:00 pm $120/$117\n\n \n\nRegister\n\n\nThis class is geared for the older child who wants to explore the powerful drama of black and white. We will look at the exciting portraits of Chuck Close\, using charcol and conte crayon\, the extreme expressionist works of Kathe Kollowitz and the German movement followed by the dark\, moody landscapes of R.R. Ryder and Leon Spilliart. Black and White is a very forceful form of art\, and unlike color it provides directness and strength. Learning about the importance of volume\, light and emotion is part of this workshops emphasis.
X-ALT-DESC;FMTTYPE=text/html:<div class="eventname" style="margin: 0px\; padding: 10px 0px 0px\; color: rgb(136\, 27\, 54)\; font-size: 12px\; text-transform: uppercase\; font-family: arial\, tahoma\, verdana\, sans-serif\; background-color: rgb(255\, 255\, 255)\;"><font class="eventnamequalifier" style="margin: 0px\; padding: 0px\; font-weight: bold\; color: rgb(0\, 0\, 0)\;">NEW! &nbsp\;&nbsp\;</font>BLACK AND WHITE ART CLASS (GRADES 3-7)</div>\n\n<div class="eventimage" style="margin: 0px\; padding: 0px\; color: rgb(51\, 51\, 51)\; font-family: arial\, tahoma\, verdana\, sans-serif\; font-size: 13px\; line-height: 20px\; background-color: rgb(255\, 255\, 255)\;">&nbsp\;</div>\n\n<div class="eventcontact" style="margin: 0px\; padding: 0px\; color: rgb(51\, 51\, 51)\; font-family: arial\, tahoma\, verdana\, sans-serif\; font-size: 13px\; line-height: 20px\; background-color: rgb(255\, 255\, 255)\;">Instructor: Kathy Dunn</div>\n\n<div class="eventvenue" style="margin: 0px\; padding: 0px 0px 5px\; color: rgb(51\, 51\, 51)\; font-family: arial\, tahoma\, verdana\, sans-serif\; font-size: 13px\; line-height: 20px\; background-color: rgb(255\, 255\, 255)\;">Location: Roudenbush\, 65 Main St.</div>\n\n<div class="eventextrainfolink" style="margin: 0px\; padding: 0px 0px 5px\; color: rgb(51\, 51\, 51)\; font-family: arial\, tahoma\, verdana\, sans-serif\; font-size: 13px\; line-height: 20px\; background-color: rgb(255\, 255\, 255)\;">&nbsp\;</div>\n\n<div class="eventinstance" style="margin: 0px\; padding: 0px\; clear: left\; color: rgb(51\, 51\, 51)\; font-family: arial\, tahoma\, verdana\, sans-serif\; font-size: 13px\; line-height: 20px\; background-color: rgb(255\, 255\, 255)\;">\n<div class="instancename" style="margin: 0px\; padding: 0px\; width: 507.4375px\; float: left\;"><font class="instanceaccountingid" style="margin: 0px\; padding: 0px\; font-weight: bold\;">RCC-E11388&nbsp\;</font>Aug 18-Aug 20 (Mon-Wed) 10:00 am-1:00 pm $120/$117</div>\n\n<div class="instanceregion" style="margin: 0px\; padding: 0px\; float: left\;">&nbsp\;</div>\n\n<div class="instanceUrl" style="margin: 0px 0px 0px 10px\; padding: 0px\; float: left\; font-weight: bold\;"><a class="eventanchor" href="http://web5.mkat.com/mktixrun/shared/mknporun?dir=roudy2.RCC-1&amp\;page=mkeventregisterfrm.jsp&amp\;Event=RCC-E11388" style="margin: 0px\; padding: 0px\; cursor: pointer\; color: rgb(136\, 27\, 54)\; background: transparent\;">Register</a></div>\n</div>\n\n<div class="eventdescription" style="margin: 0px\; padding: 10px 0px 5px\; border-bottom-width: 1px\; border-bottom-style: solid\; border-bottom-color: rgb(238\, 238\, 238)\; clear: left\; color: rgb(51\, 51\, 51)\; font-family: arial\, tahoma\, verdana\, sans-serif\; font-size: 13px\; line-height: 20px\; background-color: rgb(255\, 255\, 255)\;">This class is geared for the older child who wants to explore the powerful drama of black and white. We will look at the exciting portraits of Chuck Close\, using charcol and conte crayon\, the extreme expressionist works of Kathe Kollowitz and the German movement followed by the dark\, moody landscapes of R.R. Ryder and Leon Spilliart. Black and White is a very forceful form of art\, and unlike color it provides directness and strength. Learning about the importance of volume\, light and emotion is part of this workshops emphasis.</div>\n\n<div>&nbsp\;</div>\n\n<div class="eventorganization" style="margin: 0px\; padding: 0px\; color: rgb(51\, 51\, 51)\; font-family: arial\, tahoma\, verdana\, sans-serif\; font-size: 13px\; line-height: 20px\; background-color: rgb(255\, 255\, 255)\;">&nbsp\;</div>\n\n<div class="eventsuborg" style="margin: 0px\; padding: 0px\; color: rgb(51\, 51\, 51)\; font-family: arial\, tahoma\, verdana\, sans-serif\; font-size: 13px\; line-height: 20px\; background-color: rgb(255\, 255\, 255)\;">&nbsp\;</div>\n
LOCATION:
UID:e.518.17574
SEQUENCE:3
DTSTAMP:20260425T024534Z
URL:http://nashoba.preview.gochambermaster.com/events/details/black-and-white-art-class-grades-3-7-08-18-2014-17574
END:VEVENT

END:VCALENDAR
