BEGIN:VCALENDAR
VERSION:2.0
PRODID:-//ChamberMaster//Event Calendar 2.0//EN
METHOD:PUBLISH
X-PUBLISHED-TTL:P3D
REFRESH-INTERVAL:P3D
CALSCALE:GREGORIAN
BEGIN:VEVENT
DTSTART;VALUE=DATE:20131207
DTEND;VALUE=DATE:20131208
TRANSP:TRANSPARENT
X-MICROSOFT-CDO-ALLDAYEVENT:TRUE
SUMMARY:* Bake & Craft Sale to benefit the Shirley Seniors
DESCRIPTION:Bake & Craft Sale to benefit the Shirley Seniors\n\n \n\nThere will be a bake and craft sale on Sat Dec 7th from 9-2 at the Shirley Senior Center. They will be selling Baked Goods\, Bird Houses Quilted Bags\, pens and Christmas ornaments. Stop by and do your Christmas shopping.\n\n \n\nAlso\, if you are a vendor\, we still have tables available to rent for $10. Contact  Shirley at 978-425-9566 if interested.
X-ALT-DESC;FMTTYPE=text/html:<strong><u>Bake &amp\; Craft Sale to benefit the Shirley Seniors</u></strong><br />\n&nbsp\;<br />\nThere will be a bake and craft sale on Sat Dec 7<sup>th</sup> from 9-2 at the Shirley Senior Center. They will be selling Baked Goods\, Bird Houses Quilted Bags\, pens and Christmas ornaments. Stop by and do your Christmas shopping.<br />\n&nbsp\;<br />\nAlso\, if you are a vendor\, we still have tables available to rent for $10. Contact&nbsp\; Shirley at 978-425-9566 if interested.<br />\n<br />\n<br />\n<br />\n
LOCATION:
UID:e.518.15293
SEQUENCE:3
DTSTAMP:20260425T182721Z
URL:http://nashoba.preview.gochambermaster.com/events/details/bake-craft-sale-to-benefit-the-shirley-seniors-12-07-2013-15293
END:VEVENT

END:VCALENDAR
