BEGIN:VCALENDAR
VERSION:2.0
PRODID:-//ChamberMaster//Event Calendar 2.0//EN
METHOD:PUBLISH
X-PUBLISHED-TTL:P3D
REFRESH-INTERVAL:P3D
CALSCALE:GREGORIAN
BEGIN:VEVENT
DTSTART;VALUE=DATE:20141119
DTEND;VALUE=DATE:20141120
TRANSP:TRANSPARENT
X-MICROSOFT-CDO-ALLDAYEVENT:TRUE
SUMMARY:* Ayer Fire Annual Turkey Party
DESCRIPTION:Ayer Fire Annual Turkey Party is November 19th beginning at 7pm\n\n\n\nThis is a family friendly event and you will have the opportunity to win lots of prizes at only a quarter a chance. Prizes include turkeys and merchandise donated by local businesses.\n\n\n\nAll proceeds to benefit Fire Department Programs in Ayer.
X-ALT-DESC;FMTTYPE=text/html:<span aria-live="polite" class="fbPhotosPhotoCaption" data-ft="{&quot\;tn&quot\;:&quot\;*G&quot\;\,&quot\;type&quot\;:45}" id="fbPhotoPageCaption" style="outline: none\; display: inline\; width: auto\; color: rgb(20\, 24\, 35)\; font-family: Helvetica\, Arial\, 'lucida grande'\, tahoma\, verdana\, arial\, sans-serif\; font-size: 12.222222328186px\; line-height: 17.0666675567627px\;" tabindex="0"><span class="hasCaption">Ayer Fire Annual Turkey Party is November 19th beginning at 7pm<br />\n<br />\nThis is a family friendly event and you will have the opportunity to win lots of prizes at only a quarter a chance. Prizes include turkeys and merchandise donated by local businesses.<br />\n<br />\nAll proceeds to benefit Fire Department Programs in Ayer.</span></span>\n\n<div>&nbsp\;\n<div class="fbPhotoInlineEditor" id="fbPhotoPageInlineEditor" style="color: rgb(20\, 24\, 35)\; font-family: Helvetica\, Arial\, 'lucida grande'\, tahoma\, verdana\, arial\, sans-serif\; font-size: 12.222222328186px\; line-height: 17.0666675567627px\;">&nbsp\;</div>\n\n<div class="fbPhotosPhotoFeedback" id="fbPhotoPageFeedback" style="margin-top: 3px\; color: rgb(20\, 24\, 35)\; font-family: Helvetica\, Arial\, 'lucida grande'\, tahoma\, verdana\, arial\, sans-serif\; font-size: 12.222222328186px\; line-height: 17.0666675567627px\;">\n<form action="https://www.facebook.com/ajax/ufi/modify.php" class="commentable_item autoexpand_mode" data-ft="{&quot\;tn&quot\;:&quot\;]&quot\;}" id="u_0_6" method="post" rel="async" style="margin: 0px\; padding: 0px\;">\n<div class="withActorSelector" style="margin-top: 8px\;">\n<div class="clearfix" style="zoom: 1\;">\n<div class="_4bl7 _4bl8" style="float: right\; min-height: 1px\; word-wrap: break-word\;">\n<div id="u_0_u">\n<div aria-label="Like or comment as one of the Pages you manage." class="_6vi _6a _6b" data-hover="tooltip" data-reactid=".0.1" style="display: inline-block\; vertical-align: middle\;" value="534752754">\n<div class="uiPopover _6a _6b" data-reactid=".0.1.0" style="display: inline-block\; vertical-align: middle\;">&nbsp\;</div>\n</div>\n</div>\n</div>\n</div>\n</div>\n</form>\n</div>\n</div>\n
LOCATION:
UID:e.518.18648
SEQUENCE:3
DTSTAMP:20260424T223727Z
URL:http://nashoba.preview.gochambermaster.com/events/details/ayer-fire-annual-turkey-party-11-19-2014-18648
END:VEVENT

END:VCALENDAR
