BEGIN:VCALENDAR
VERSION:2.0
PRODID:-//ChamberMaster//Event Calendar 2.0//EN
METHOD:PUBLISH
X-PUBLISHED-TTL:P3D
REFRESH-INTERVAL:P3D
CALSCALE:GREGORIAN
BEGIN:VEVENT
DTSTART;VALUE=DATE:20141018
DTEND;VALUE=DATE:20141019
TRANSP:TRANSPARENT
X-MICROSOFT-CDO-ALLDAYEVENT:TRUE
SUMMARY:* Annual Harvest Fair (at Applewild School\, Fitchburg)
DESCRIPTION:Saturday\, October 18at 10:00am - 4:00pm\n\nApplewild School\n\n120 Prospect St\, Fitchburg\, Massachusetts 01420\n\n \n\nSaturday\, October 18 - Applewild School's annual Harvest Fair from 10-4\, rain or shine. Join the fun with children's games\, pony rides\, apple pie baking contest\, pumpkin decorating\, gift basket raffles\, chicken barbecue and bake sale. www.applewild.org
X-ALT-DESC;FMTTYPE=text/html:<br />\n<br />\n&nbsp\;<br />\nSaturday\, October 18at 10:00am - 4:00pm<br />\nApplewild School<br />\n120 Prospect St\, Fitchburg\, Massachusetts 01420<br />\n&nbsp\;<br />\n<span style="color:blue\;"><span style="font-family:verdana\,sans-serif\;">Saturday\, October 18 - Applewild School&#39\;s annual Harvest Fair from 10-4\, rain or shine. Join the fun with children&#39\;s games\, pony rides\, apple pie baking contest\, pumpkin decorating\, gift basket raffles\, chicken barbecue and bake sale. <a href="http://www.applewild.org">www.applewild.org</a></span></span><br />\n&nbsp\;
LOCATION:
UID:e.518.18069
SEQUENCE:3
DTSTAMP:20260424T224449Z
URL:http://nashoba.preview.gochambermaster.com/events/details/annual-harvest-fair-at-applewild-school-fitchburg-10-18-2014-18069
END:VEVENT

END:VCALENDAR
