BEGIN:VCALENDAR
VERSION:2.0
PRODID:-//ChamberMaster//Event Calendar 2.0//EN
METHOD:PUBLISH
X-PUBLISHED-TTL:P3D
REFRESH-INTERVAL:P3D
CALSCALE:GREGORIAN
BEGIN:VEVENT
DTSTART;VALUE=DATE:20140216
DTEND;VALUE=DATE:20140217
TRANSP:TRANSPARENT
X-MICROSOFT-CDO-ALLDAYEVENT:TRUE
SUMMARY:* Animal Adventures
DESCRIPTION:Sunday\, February 16\, 1PM - 2PM              \n\n	Animal Adventures\n\n	Children under 14 yrs. $5\, \n\n	Adult Members $10\, Nonmembers $15\n\n	Includes admission to WinterFest\n\n	Meet wild animals from New England and beyond when Animal Adventures visits Fruitlands with a menagerie of critters. Learn about behavior\, habitat and conservation in this interactive program. Controlled petting will be permitted at the discretion of the Animal Adventures guide. Space is limited. To register\, call 978-456-3924 x291 or email programming@fruitlands.org
X-ALT-DESC;FMTTYPE=text/html:<p class="BasicParagraph">\n	<span style="font-size:11.0pt\;line-height:120%\;\nfont-family:&quot\;Calibri&quot\;\,&quot\;sans-serif&quot\;">Sunday\, February 16\, 1PM - 2PM&nbsp\;&nbsp\;&nbsp\;&nbsp\;&nbsp\;&nbsp\;&nbsp\;&nbsp\;&nbsp\;&nbsp\;&nbsp\;&nbsp\;&nbsp\; </span><o:p></o:p></p>\n<p class="BasicParagraph">\n	<b><span style="font-size:11.0pt\;line-height:120%\;\nfont-family:&quot\;Calibri&quot\;\,&quot\;sans-serif&quot\;\;color:#0F6DBC">Animal Adventures</span></b><o:p></o:p></p>\n<p class="BasicParagraph">\n	<span style="font-size:11.0pt\;line-height:120%\;\nfont-family:&quot\;Calibri&quot\;\,&quot\;sans-serif&quot\;">Children under 14 yrs. $5\, </span><o:p></o:p></p>\n<p class="BasicParagraph">\n	<span style="font-size:11.0pt\;line-height:120%\;\nfont-family:&quot\;Calibri&quot\;\,&quot\;sans-serif&quot\;">Adult Members $10\, Nonmembers $15<br />\n	Includes admission to WinterFest</span><o:p></o:p></p>\n<p class="BasicParagraph" style="text-align:justify">\n	<span style="font-size:11.0pt\;\nline-height:120%\;font-family:&quot\;Calibri&quot\;\,&quot\;sans-serif&quot\;">Meet wild animals from New England and beyond when Animal Adventures visits Fruitlands with a menagerie of critters. Learn about behavior\, habitat and conservation in this interactive program. Controlled petting will be permitted at the discretion of the Animal Adventures guide. Space is limited. To register\, call 978-456-3924 x291 or email <a href="mailto:programming@fruitlands.org">programming@fruitlands.org</a>&nbsp\; &nbsp\; &nbsp\; &nbsp\; &nbsp\; &nbsp\; &nbsp\; &nbsp\; &nbsp\; &nbsp\; &nbsp\;</span><o:p></o:p></p>\n
LOCATION:
UID:e.518.16167
SEQUENCE:3
DTSTAMP:20260425T144529Z
URL:http://nashoba.preview.gochambermaster.com/events/details/animal-adventures-02-16-2014-16167
END:VEVENT

END:VCALENDAR
