BEGIN:VCALENDAR
VERSION:2.0
PRODID:-//ChamberMaster//Event Calendar 2.0//EN
METHOD:PUBLISH
X-PUBLISHED-TTL:P3D
REFRESH-INTERVAL:P3D
CALSCALE:GREGORIAN
BEGIN:VEVENT
DTSTART:20150423T230000Z
DTEND:20150424T000000Z
X-MICROSOFT-CDO-ALLDAYEVENT:FALSE
SUMMARY:* An Evening with Ted Reinstein (Friends of the Hazen Memorial Library)
DESCRIPTION:Meet Ted Reinstein\, reporter for CHRONICLE\, Boston's celebrated and longest-running TV newsmagazine. Join the Friends of the Hazen Memorial Library for an Evening with journalist and author Ted Reinstein as he recounts his travels and stories from WCVB's CHRONICLE. His book\, "New England Notebook: One Reporter\, Six States\, Uncommon Stories"\, focuses on 'the best of the best - my all time most favorite people and places in New England.' His talk is highlighted with photos\, many the work of some of the region's most talented and successful photographers\, and all are featured in the book. Following the talk\, Ted takes questions from the audience. After the Q&A session\, his book will be available for sale\, and Ted is happy to personally sign copies. This FREE program is sponsored by the Friends of the Hazen Memorial Library.
X-ALT-DESC;FMTTYPE=text/html:Meet Ted Reinstein\, reporter for CHRONICLE\, Boston&#39\;s celebrated and longest-running TV newsmagazine. Join the Friends of the Hazen Memorial Library for an Evening with journalist and author Ted Reinstein as he recounts his travels and stories from WCVB&#39\;s CHRONICLE. His book\, &quot\;New England Notebook: One Reporter\, Six States\, Uncommon Stories&quot\;\, focuses on &#39\;the best of the best - my all time most favorite people and places in New England.&#39\; His talk is highlighted with photos\, many the work of some of the region&#39\;s most talented and successful photographers\, and all are featured in the book. Following the talk\, Ted takes questions from the audience. After the Q&amp\;A session\, his book will be available for sale\, and Ted is happy to personally sign copies. This FREE program is sponsored by the Friends of the Hazen Memorial Library.
LOCATION:Hazen Memorial Library\, 3 Keady Way\, Shirley
UID:e.518.20644
SEQUENCE:3
DTSTAMP:20260424T040136Z
URL:http://nashoba.preview.gochambermaster.com/events/details/an-evening-with-ted-reinstein-friends-of-the-hazen-memorial-library-04-23-2015-20644
END:VEVENT

END:VCALENDAR
