BEGIN:VCALENDAR
VERSION:2.0
PRODID:-//ChamberMaster//Event Calendar 2.0//EN
METHOD:PUBLISH
X-PUBLISHED-TTL:P3D
REFRESH-INTERVAL:P3D
CALSCALE:GREGORIAN
BEGIN:VEVENT
DTSTART;VALUE=DATE:20131220
DTEND;VALUE=DATE:20131221
TRANSP:TRANSPARENT
X-MICROSOFT-CDO-ALLDAYEVENT:TRUE
SUMMARY:* Adult Paint And Pour Party with Collins Artworks
DESCRIPTION:Adult Paint And Pour Parties\nhttps://www.collinsartworks.com/main/2013/10/new-adult-painting-parties.html\n\n\n\n\n\nHave fun with your friends creating your own acrylic or watercolor painting on canvas using a painting off our wall as a guide. You will have two choices either a landscape or floral. The group gets to vote on which painting is chosen.The instructor will show you how to create the painting step by step. A complimentary glass of wine is provided\, or you can bring your own bottle of wine. All painting supplies are included in the fee. $25 to $35 per person for an evening of great fun!. Group rates are available. \n\nAdult painting parties can be booked for an afternoon or evening except Wednesdays. There is no paint parties booked on Friday afternoons 1 pm to 5:15 pm. Parties are planned for 5 or more participants at a time. One or two participants can join a forming party. If you want to form your own group party call to book. Please call for party dates and times. The party is 2 hours. Fun\, creative\, and a unique experience with your friends\, co-workers or family. Call today to book!\n\nYou can join these parties or form your own. Parties are forming on\, Friday  December 20th and 22nd 5:30 to 7:30 pm. More parties are forming. Call to book a private party for friends or coworkers. Please call to register for either party 978-368-3300 or 978-733-0039. \n\nInformation about our instructor:\n\nSheryll Collins is co-owner of Collins Artworks\, award winning artist and teacher. Her paintings can be found in private homes\, offices\, hospitals and clinics all over the state. She is known for her colorful impressionistic style. She is an award winning art teacher of students of all ages. \n\nSheryll is a mother of 6 and a grandmother of 15 grandchildren. She also is a registered nurse working with pregnant and parenting teens in southern Worcester county. She makes her home in Clinton with her husband and 2 grandchildren.
X-ALT-DESC;FMTTYPE=text/html:<h1 style="margin-bottom:.0001pt\;">\n	<span style="color:black\;"><span style="font-family:scrivano\,serif\;"><span style="font-size:16.5pt\;"><a href="https://www.collinsartworks.com/main/2013/10/new-adult-painting-parties.html"><span style="text-decoration:none\;text-underline:none\;">Adult Paint And Pour Parties</span></a></span></span></span></h1>\n<a href="https://www.collinsartworks.com/main/2013/10/new-adult-painting-parties.html">https://www.collinsartworks.com/main/2013/10/new-adult-painting-parties.html</a><br />\n<br />\n<br />\n<span style="font-family:scrivano\,serif\;"><span style="font-size:10.5pt\;">Have fun with your friends creating your own acrylic or watercolor painting on canvas using a painting off our wall as a guide. You will have two choices either a landscape or floral. The group gets to vote on which painting is chosen.The instructor will show you how to create the painting step by step. A complimentary glass of wine is provided\, or you can bring your own bottle of wine. All painting supplies are included in the fee. $25 to $35 per person for an evening of great fun!. Group rates are available.&nbsp\;</span></span><br />\n<span style="font-family:scrivano\,serif\;"><span style="font-size:10.5pt\;">Adult painting parties can be booked for an afternoon or evening except Wednesdays. There is no paint parties booked on Friday afternoons 1 pm to 5:15 pm. Parties are planned for 5 or more participants at a time. One or two participants can join a forming party. If you want to form your own group party call to book. Please call for party dates and times. The party is 2 hours. Fun\, creative\, and a unique experience with your friends\, co-workers or family. Call today to book!</span></span><br />\n<strong><span style="font-family:scrivano\,serif\;"><span style="font-size:10.5pt\;">You can join these parties or form your own. Parties are forming on\, Friday &nbsp\;December 20th and 22nd 5:30 to 7:30 pm. More parties are forming. Call to book a private party for friends or coworkers. Please call to register for either party&nbsp\;<span style="color:#0033bb\;"><span id="gc-number-0" style="cursor:pointer\;" title="Call with\n              Google Voice">978-368-3300</span></span></span></span>&nbsp\;or 978-733-0039.&nbsp\;</strong><br />\n<span style="font-family:scrivano\,serif\;"><span style="font-size:10.5pt\;">Information about our instructor:</span></span><br />\n<span style="font-family:scrivano\,serif\;"><span style="font-size:10.5pt\;">Sheryll Collins is co-owner of Collins Artworks\, award winning artist and teacher. Her paintings can be found in private homes\, offices\, hospitals and clinics all over the state. She is known for her colorful impressionistic style. She is an award winning art teacher of students of all ages.&nbsp\;</span></span><br />\n<span style="font-family:scrivano\,serif\;"><span style="font-size:10.5pt\;">Sheryll is a mother of 6 and a grandmother of 15 grandchildren. She also is a registered nurse working with pregnant and parenting teens in southern Worcester county. She makes her home in Clinton with her husband and 2 grandchildren. </span></span><br />\n&nbsp\;<br />\n<br />\n
LOCATION:
UID:e.518.15792
SEQUENCE:3
DTSTAMP:20260425T182723Z
URL:http://nashoba.preview.gochambermaster.com/events/details/adult-paint-and-pour-party-with-collins-artworks-12-20-2013-15792
END:VEVENT

END:VCALENDAR
